BEGIN:VCALENDAR
VERSION:2.0
PRODID:-//ChamberMaster//Event Calendar 2.0//EN
METHOD:PUBLISH
X-PUBLISHED-TTL:P3D
REFRESH-INTERVAL:P3D
CALSCALE:GREGORIAN
BEGIN:VEVENT
DTSTART;VALUE=DATE:20260318
DTEND;VALUE=DATE:20260319
TRANSP:TRANSPARENT
X-MICROSOFT-CDO-ALLDAYEVENT:TRUE
SUMMARY:Inside Belgrade Economic Development Series
DESCRIPTION:The City of Belgrade is re-launching our FREE monthly economic development series designed to provide residents\, businesses and community partners with a deeper look at projects and partnerships shaping the city's economic future! \n\n \n\nInside Belgrade is a six-part lunch series featuring subject-matter experts\, city leadership\, and regional partners presenting on topics like infrastructure\, transportation\, tourism and parks and recreation. Each session offers time for lunch\, presentations\, networking and discussion. \n\n \n\nSessions will take place on the third Wednesday of the month from January to June 2026 at the Belgrade Community Library. \n\n \n\nAll residents\, businesses\, and community partners are welcome to attend and learn more about Belgrade!
X-ALT-DESC;FMTTYPE=text/html:<h3 style="box-sizing: border-box\; margin-top: 0px\; margin-bottom: 0px\; border: 0px none\; font-family: &quot\;Open Sans&quot\;\; color: rgb(21\, 21\, 72)\; font-size: 1.1em\; background-color: rgb(255\, 255\, 255)\;"><span style="box-sizing: border-box\; margin: 0px\; padding: 0px\; border: 0px\; font-weight: 400\; font-style: inherit\; font-size: 16.72px\; font-family: inherit\; vertical-align: baseline\; outline: 0px\;">The City of Belgrade is re-launching our FREE monthly economic development series designed to provide residents\, businesses and community partners with a deeper look at projects and partnerships shaping the city&rsquo\;s economic future!&nbsp\;</span></h3>\n\n<h3 style="box-sizing: border-box\; margin-top: 0px\; margin-bottom: 0px\; border: 0px none\; font-family: &quot\;Open Sans&quot\;\; color: rgb(21\, 21\, 72)\; font-size: 1.1em\; background-color: rgb(255\, 255\, 255)\;">&nbsp\;</h3>\n\n<h3 style="box-sizing: border-box\; margin-top: 0px\; margin-bottom: 0px\; border: 0px none\; font-family: &quot\;Open Sans&quot\;\; color: rgb(21\, 21\, 72)\; font-size: 1.1em\; background-color: rgb(255\, 255\, 255)\;"><span style="box-sizing: border-box\; margin: 0px\; padding: 0px\; border: 0px\; font-weight: 400\; font-style: inherit\; font-size: 16.72px\; font-family: inherit\; vertical-align: baseline\; outline: 0px\;">Inside Belgrade is a six-part lunch series featuring subject-matter experts\, city leadership\, and regional partners presenting on topics like infrastructure\, transportation\, tourism and parks and recreation. Each session offers time for lunch\, presentations\, networking and discussion.&nbsp\;</span></h3>\n\n<h3 style="box-sizing: border-box\; margin-top: 0px\; margin-bottom: 0px\; border: 0px none\; font-family: &quot\;Open Sans&quot\;\; color: rgb(21\, 21\, 72)\; font-size: 1.1em\; background-color: rgb(255\, 255\, 255)\;">&nbsp\;</h3>\n\n<h3 style="box-sizing: border-box\; margin-top: 0px\; margin-bottom: 0px\; border: 0px none\; font-family: &quot\;Open Sans&quot\;\; color: rgb(21\, 21\, 72)\; font-size: 1.1em\; background-color: rgb(255\, 255\, 255)\;"><span style="box-sizing: border-box\; margin: 0px\; padding: 0px\; border: 0px\; font-weight: 400\; font-style: inherit\; font-size: 16.72px\; font-family: inherit\; vertical-align: baseline\; outline: 0px\;">Sessions will take place on the third Wednesday of the month from January to June 2026 at the Belgrade Community Library.&nbsp\;</span></h3>\n\n<h3 style="box-sizing: border-box\; margin-top: 0px\; margin-bottom: 0px\; border: 0px none\; font-family: &quot\;Open Sans&quot\;\; color: rgb(21\, 21\, 72)\; font-size: 1.1em\; background-color: rgb(255\, 255\, 255)\;">&nbsp\;</h3>\n\n<h3 style="box-sizing: border-box\; margin-top: 0px\; margin-bottom: 0px\; border: 0px none\; font-family: &quot\;Open Sans&quot\;\; color: rgb(21\, 21\, 72)\; font-size: 1.1em\; background-color: rgb(255\, 255\, 255)\;"><span style="box-sizing: border-box\; margin: 0px\; padding: 0px\; border: 0px\; font-weight: 400\; font-style: inherit\; font-size: 16.72px\; font-family: inherit\; vertical-align: baseline\; outline: 0px\;">All residents\, businesses\, and community partners are welcome to attend and learn more about Belgrade!</span></h3>\n
LOCATION:
UID:e.491.16387
SEQUENCE:3
DTSTAMP:20260422T040119Z
URL:http://members.belgradechamber.org/events/details/inside-belgrade-economic-development-series-03-18-2026-16387
END:VEVENT

END:VCALENDAR
