BEGIN:VCALENDAR
VERSION:2.0
PRODID:-//ChamberMaster//Event Calendar 2.0//EN
METHOD:PUBLISH
X-PUBLISHED-TTL:P3D
REFRESH-INTERVAL:P3D
CALSCALE:GREGORIAN
BEGIN:VEVENT
DTSTART:20251113T160000Z
DTEND:20251114T000000Z
X-MICROSOFT-CDO-ALLDAYEVENT:FALSE
SUMMARY:2025 Belgrade Economic Summit
DESCRIPTION:2025 Belgrade Economic Summit\nWe have an EXCELLENT LINEUP for you all this year!!\n\n  Date: November 13\, 2025\n\n  Location: Holiday Inn Express\, Belgrade\n\nJoin business leaders\, innovators\, and community members for the annual Belgrade Economic Summit! This year's event brings a strong lineup of engaging speakers and networking opportunities\, paired with local food and hospitality.\n\n   What's Included\n\n\n	\n	Breakfast treats from Rise and Shine Bakery\n	\n	\n	Lunch catered by Venus Catering\n	\n	\n	Happy Hour hosted by Rhino Casino (includes one drink ticket per attendee)\n	\n\n\n   Sponsorship Opportunities\n\n\n\n\n	\n		\n			Sponsorship Level\n			Investment\n			Benefits\n		\n	\n	\n		\n			Partner Sponsor\n			$225\n			Special mention during the event   Business name listed in program   50% off one Summit ticket\n		\n		\n			Champion Sponsor\n			$500\n			Recognized as an Economic Summit Sponsor   Special mention during the event   Business name & logo on flyer   Includes 1 Summit ticket\n		\n		\n			Trailblazer Sponsor\n			$1\,000\n			Sponsor of the participant lunch   Signage in food area   Special mention during the event   Business name & logo on flyer   Includes 2 Summit tickets\n		\n		\n			Visionary Sponsor\n			$1\,500\n			Helps cover venue\, beverage and breakfast costs   Recognized as Headline Sponsor   Logo & business name featured on online event calendar   Prominent logo in program   Multiple special mentions & social media highlights   Includes 4 Summit tickets\n		\n	\n\n\n\n\n\n  Why Attend?\n\n\n	\n	Connect with top business and community leaders\n	\n	\n	Gain insights into Belgrade's economic growth and opportunities\n	\n	\n	Showcase your business through sponsorship and visibility\n\n	\n\n	REGISTER FOR A SEAT- $45.00\n	\n\n\n\n  Register Today!\nIf you are a sponsor at a level that includes tickets\, we will adjust that on our end for you. Just please make a note in the comments section of registration!
X-ALT-DESC;FMTTYPE=text/html:<h2 data-end="231" data-start="193"><strong data-end="229" data-start="196">2025 Belgrade Economic Summit</strong></h2>\nWe have an EXCELLENT LINEUP for you all this year!!\n\n<p data-end="321" data-start="232">&#128197\; <strong data-end="244" data-start="235">Date:</strong>&nbsp\;November 13\, 2025<br data-end="273" data-start="270" />\n&#128205\; <strong data-end="289" data-start="276">Location:</strong> Holiday Inn Express\, Belgrade</p>\n\n<p data-end="558" data-start="323">Join business leaders\, innovators\, and community members for the annual <strong data-end="423" data-start="395">Belgrade Economic Summit</strong>! This year&rsquo\;s event brings a strong lineup of engaging speakers and networking opportunities\, paired with local food and hospitality.</p>\n\n<h3 data-end="583" data-start="560">&#127869\;&#65039\; What&rsquo\;s Included</h3>\n\n<ul data-end="764" data-start="584">\n	<li data-end="637" data-start="584">\n	<p data-end="637" data-start="586"><strong data-end="599" data-start="586">Breakfast</strong> treats from <em data-end="635" data-start="612">Rise and Shine Bakery</em></p>\n	</li>\n	<li data-end="679" data-start="638">\n	<p data-end="679" data-start="640"><strong data-end="649" data-start="640">Lunch</strong> catered by <em data-end="677" data-start="661">Venus Catering</em></p>\n	</li>\n	<li data-end="764" data-start="680">\n	<p data-end="764" data-start="682"><strong data-end="696" data-start="682">Happy Hour</strong> hosted by <em data-end="721" data-start="707">Rhino Casino</em> (includes one drink ticket per attendee)</p>\n	</li>\n</ul>\n\n<h3 data-end="801" data-start="766">&#127903\;&#65039\; Sponsorship Opportunities</h3>\n\n<div class="_tableContainer_1rjym_1">\n<div class="group _tableWrapper_1rjym_13 flex w-fit flex-col-reverse" tabindex="-1">\n<table class="w-fit min-w-(--thread-content-width)" data-end="1647" data-start="803">\n	<thead data-end="848" data-start="803">\n		<tr data-end="848" data-start="803">\n			<th data-col-size="sm" data-end="823" data-start="803">Sponsorship Level</th>\n			<th data-col-size="sm" data-end="836" data-start="823">Investment</th>\n			<th data-col-size="xl" data-end="848" data-start="836">Benefits</th>\n		</tr>\n	</thead>\n	<tbody data-end="1647" data-start="896">\n		<tr data-end="1023" data-start="896">\n			<td data-col-size="sm" data-end="918" data-start="896"><strong data-end="917" data-start="898">Partner Sponsor</strong></td>\n			<td data-col-size="sm" data-end="925" data-start="918">$225</td>\n			<td data-col-size="xl" data-end="1023" data-start="925">Special mention during the event &bull\; Business name listed in program &bull\; 50% off one Summit ticket</td>\n		</tr>\n		<tr data-end="1194" data-start="1024">\n			<td data-col-size="sm" data-end="1047" data-start="1024"><strong data-end="1046" data-start="1026">Champion Sponsor</strong></td>\n			<td data-col-size="sm" data-end="1054" data-start="1047">$500</td>\n			<td data-col-size="xl" data-end="1194" data-start="1054">Recognized as an <em data-end="1098" data-start="1073">Economic Summit Sponsor</em> &bull\; Special mention during the event &bull\; Business name &amp\; logo on flyer &bull\; Includes 1 Summit ticket</td>\n		</tr>\n		<tr data-end="1384" data-start="1195">\n			<td data-col-size="sm" data-end="1221" data-start="1195"><strong data-end="1220" data-start="1197">Trailblazer Sponsor</strong></td>\n			<td data-col-size="sm" data-end="1230" data-start="1221">$1\,000</td>\n			<td data-col-size="xl" data-end="1384" data-start="1230">Sponsor of the participant lunch &bull\; Signage in food area &bull\; Special mention during the event &bull\; Business name &amp\; logo on flyer &bull\; Includes 2 Summit tickets</td>\n		</tr>\n		<tr data-end="1647" data-start="1385">\n			<td data-col-size="sm" data-end="1409" data-start="1385"><strong data-end="1408" data-start="1387">Visionary Sponsor</strong></td>\n			<td data-col-size="sm" data-end="1418" data-start="1409">$1\,500</td>\n			<td data-col-size="xl" data-end="1647" data-start="1418">Helps cover venue\, beverage and breakfast costs &bull\; Recognized as <em data-end="1478" data-start="1460">Headline Sponsor</em> &bull\; Logo &amp\; business name featured on online event calendar &bull\; Prominent logo in program &bull\; Multiple special mentions &amp\; social media highlights &bull\; Includes 4 Summit tickets</td>\n		</tr>\n	</tbody>\n</table>\n</div>\n</div>\n\n<hr data-end="1652" data-start="1649" />\n<h3 data-end="1671" data-start="1654">&#10024\; Why Attend?</h3>\n\n<ul data-end="1853" data-start="1672">\n	<li data-end="1723" data-start="1672">\n	<p data-end="1723" data-start="1674">Connect with top business and community leaders</p>\n	</li>\n	<li data-end="1791" data-start="1724">\n	<p data-end="1791" data-start="1726">Gain insights into Belgrade&rsquo\;s economic growth and opportunities</p>\n	</li>\n	<li data-end="1853" data-start="1792">\n	<p data-end="1853" data-start="1794">Showcase your business through sponsorship and visibility<br />\n	<br />\n	<span style="font-size:24px\;">REGISTER FOR A SEAT- $45.00</span></p>\n	</li>\n</ul>\n\n<hr data-end="1858" data-start="1855" />\n<h3 data-end="1884" data-start="1860">&#128242\; Register Today!</h3>\n<span style="font-size:20px\;">If you are a sponsor at a level that includes tickets\, we will adjust that on our end for you. Just please make a note in the comments section of registration!&nbsp\;</span>
LOCATION:
UID:e.491.16226
SEQUENCE:3
DTSTAMP:20260421T160221Z
URL:https://members.belgradechamber.org/events/details/2025-belgrade-economic-summit-16226
END:VEVENT

END:VCALENDAR
