BEGIN:VCALENDAR
VERSION:2.0
PRODID:-//ChamberMaster//Event Calendar 2.0//EN
METHOD:PUBLISH
X-PUBLISHED-TTL:P3D
REFRESH-INTERVAL:P3D
CALSCALE:GREGORIAN
BEGIN:VEVENT
DTSTART;VALUE=DATE:20250913
DTEND;VALUE=DATE:20250914
TRANSP:TRANSPARENT
X-MICROSOFT-CDO-ALLDAYEVENT:TRUE
SUMMARY:2025 FALL FESTIVAL SPONSORS
DESCRIPTION:Belgrade Fall Festival Sponsorship Opportunities\n\nThe Belgrade Fall Festival is an exciting community event that brings together residents\, visitors\, and businesses for a day of fun\, entertainment\, and celebration. Your support as a sponsor helps make this event possible while providing excellent exposure for your business. Below are the available sponsorship opportunities:\n\nMain Event Sponsor   $5\,000 \n\n\n	\n	Logo featured on all festival marketing and social media.\n	\n	\n	Large banners at the festival and signage throughout the community.\n	\n	\n	Recognition in radio and print ads.\n	\n	\n	Includes a table at the event.\n	\n\n\nMusic/Entertainment Sponsor   $500 \n\n\n	\n	Banner at the music booth and logo in the festival guide.\n	\n	\n	Yard sign in the kids' game zone.\n	\n	\n	Mentions throughout the day.\n	\n\n\nParade Sponsor   $1\,500\n\n\n	\n	Logo on event website and promotional materials.\n	\n	\n	Recognition in media and on the event website.\n	\n	\n	Logo on prize plaques for parade winners.\n	\n	\n	VIP seating for the parade.\n	\n\n\nRev Up Car Show Sponsor   $1\,500 \n\n\n	\n	Logo featured on banners\, promotional materials\, and check-in table.\n	\n	\n	Mentions on social media and throughout the festival.\n	\n	\n	Name/logo on award plaques.\n\n	\n\n	Volunteer Appreciation Dinner Sponsor- "We Came\, We Served\, We Survived Fall Festival" Dinner. ~ $1000.00\n\n	Business logo featured on a banner at Fall Festival\, as well as displayed at the dinner.\n	\n\n\n2nd Annual Fall Festival Poster Sponsor   $500 \n\n\n	\n	Business logo featured on a professionally designed poster distributed statewide and locally.\n	\n\n\nBelgrade Community Sponsor   $275 \n\n\n	\n	Includes all perks of the Go Green Sponsor.\n	\n	\n	Recognition for supporting the community festival.\n	\n	\n	Yard sign provided to display in September.\n	\n\n\nGo Green Sponsor   $250 \n\n\n	\n	Supports festival promotion via radio\, television\, and print media.\n	\n	\n	Business listed in Belgrade News and mentioned by the event DJ.\n	\n	\n	Social media recognition.\n	\n\n\nGrand Prize Raffle Sponsor   $1\,500 \n\n\n	\n	Logo/business name featured at the top of raffle tickets.\n	\n	\n	Recognition in all advertising and event promotions.\n	\n\n\nKids Zone Game Sponsor   $250 \n\n\n	\n	Business name featured on signage at game stations.\n	\n	\n	Recognition in the festival program.\n	\n\n\nKids Zone Panther Sponsor   $2\,500 \n\n\n	\n	Covers the cost of inflatable carnival games.\n	\n	\n	Banner displayed at the Kids Zone.\n	\n	\n	Sponsor signage\, written stories\, radio ads\, and social media mentions.\n	\n	\n	Free entry for children to attractions like Dunk Tank\, Jumbo Skee Ball\, and Jumbo Hoops.\n\n	Kids GOLD Sponsor $1000.00\n	\n	\n	Banners at Event site\n	\n	\n	Recognition on social media and radio.\n	\n	\n	Support your community and gain valuable exposure by becoming a sponsor today!\n	\n\n\nRaffle Prize Donations   Minimum Value $150\n\n\n	\n	Business name featured on flyers and sales sheets.\n	\n	\n	Recognition on social media and radio.\n	\n	\n	Acknowledgment in the festival program.\n	\n\n\nSupport your community and gain valuable exposure by becoming a sponsor today!
X-ALT-DESC;FMTTYPE=text/html:<p data-pm-slice="1 1 []"><strong>Belgrade Fall Festival Sponsorship Opportunities</strong></p>\n\n<p>The Belgrade Fall Festival is an exciting community event that brings together residents\, visitors\, and businesses for a day of fun\, entertainment\, and celebration. Your support as a sponsor helps make this event possible while providing excellent exposure for your business. Below are the available sponsorship opportunities:</p>\n\n<h3><strong>Main Event Sponsor &ndash\; $5\,000&nbsp\;</strong></h3>\n\n<ul data-spread="false">\n	<li>\n	<p>Logo featured on all festival marketing&nbsp\;and social media.</p>\n	</li>\n	<li>\n	<p>Large banners at the festival and signage throughout the community.</p>\n	</li>\n	<li>\n	<p>Recognition in radio and print ads.</p>\n	</li>\n	<li>\n	<p>Includes a table at the event.</p>\n	</li>\n</ul>\n\n<h3><strong>Music/Entertainment Sponsor &ndash\; $500&nbsp\;</strong></h3>\n\n<ul data-spread="false">\n	<li>\n	<p>Banner at the music booth and logo in the festival guide.</p>\n	</li>\n	<li>\n	<p>Yard sign in the kids&rsquo\; game zone.</p>\n	</li>\n	<li>\n	<p>Mentions throughout the day.</p>\n	</li>\n</ul>\n\n<h3><strong>Parade Sponsor &ndash\; $1\,500</strong></h3>\n\n<ul data-spread="false">\n	<li>\n	<p>Logo on event website and promotional materials.</p>\n	</li>\n	<li>\n	<p>Recognition in media and on the event website.</p>\n	</li>\n	<li>\n	<p>Logo on prize plaques for parade winners.</p>\n	</li>\n	<li>\n	<p>VIP seating for the parade.</p>\n	</li>\n</ul>\n\n<h3><strong>Rev Up Car Show Sponsor &ndash\; $1\,500&nbsp\;</strong></h3>\n\n<ul data-spread="false">\n	<li>\n	<p>Logo featured on banners\, promotional materials\, and check-in table.</p>\n	</li>\n	<li>\n	<p>Mentions on social media and throughout the festival.</p>\n	</li>\n	<li>\n	<p>Name/logo on award plaques.<br />\n	<br />\n	<strong>Volunteer Appreciation Dinner Sponsor- &quot\;We Came\, We Served\, We Survived Fall Festival&quot\; Dinner. ~ $1000.00</strong><br />\n	<span style="color: rgb(51\, 51\, 51)\; font-family: sans-serif\, Arial\, Verdana\, &quot\;Trebuchet MS&quot\;\; font-size: 13px\; background-color: rgb(255\, 255\, 255)\;">Business logo featured on a banner at Fall Festival\, as well as displayed at the dinner.</span></p>\n	</li>\n</ul>\n\n<h3><strong>2nd Annual Fall Festival Poster Sponsor &ndash\; $500&nbsp\;</strong></h3>\n\n<ul data-spread="false">\n	<li>\n	<p>Business logo featured on a professionally designed poster distributed statewide and locally.</p>\n	</li>\n</ul>\n\n<h3><strong>Belgrade Community Sponsor &ndash\; $275&nbsp\;</strong></h3>\n\n<ul data-spread="false">\n	<li>\n	<p>Includes all perks of the Go Green Sponsor.</p>\n	</li>\n	<li>\n	<p>Recognition for supporting the community festival.</p>\n	</li>\n	<li>\n	<p>Yard sign provided to display in September.</p>\n	</li>\n</ul>\n\n<h3><strong>Go Green Sponsor &ndash\; $250&nbsp\;</strong></h3>\n\n<ul data-spread="false">\n	<li>\n	<p>Supports festival promotion via radio\, television\, and print media.</p>\n	</li>\n	<li>\n	<p>Business listed in Belgrade News and mentioned by the event DJ.</p>\n	</li>\n	<li>\n	<p>Social media recognition.</p>\n	</li>\n</ul>\n\n<h3><strong>Grand Prize Raffle Sponsor &ndash\; $1\,500&nbsp\;</strong></h3>\n\n<ul data-spread="false">\n	<li>\n	<p>Logo/business name featured at the top of raffle tickets.</p>\n	</li>\n	<li>\n	<p>Recognition in all advertising and event promotions.</p>\n	</li>\n</ul>\n\n<h3><strong>Kids Zone Game Sponsor &ndash\; $250&nbsp\;</strong></h3>\n\n<ul data-spread="false">\n	<li>\n	<p>Business name featured on signage at game stations.</p>\n	</li>\n	<li>\n	<p>Recognition in the festival program.</p>\n	</li>\n</ul>\n\n<h3><strong>Kids Zone Panther Sponsor &ndash\; $2\,500&nbsp\;</strong></h3>\n\n<ul data-spread="false">\n	<li>\n	<p>Covers the cost of inflatable carnival games.</p>\n	</li>\n	<li>\n	<p>Banner displayed at the Kids Zone.</p>\n	</li>\n	<li>\n	<p>Sponsor signage\, written stories\, radio ads\, and social media mentions.</p>\n	</li>\n	<li>\n	<p>Free entry for children to attractions like Dunk Tank\, Jumbo Skee Ball\, and Jumbo Hoops.</p>\n\n	<h3 style="line-height: 1.2\; color: rgb(51\, 51\, 51)\; font-family: sans-serif\, Arial\, Verdana\, &quot\;Trebuchet MS&quot\;\;">Kids GOLD Sponsor $1000.00</h3>\n	</li>\n	<li>\n	<p>Banners at Event site</p>\n	</li>\n	<li>\n	<p>Recognition on social media and radio.</p>\n	</li>\n	<li>\n	<p style="color: rgb(51\, 51\, 51)\; font-family: sans-serif\, Arial\, Verdana\, &quot\;Trebuchet MS&quot\;\; font-size: 13px\;"><strong>Support your community and gain valuable exposure by becoming a sponsor today!</strong></p>\n	</li>\n</ul>\n\n<h3><strong>Raffle Prize Donations &ndash\; Minimum Value $150</strong></h3>\n\n<ul data-spread="false">\n	<li>\n	<p>Business name featured on flyers and sales sheets.</p>\n	</li>\n	<li>\n	<p>Recognition on social media and radio.</p>\n	</li>\n	<li>\n	<p>Acknowledgment in the festival program.</p>\n	</li>\n</ul>\n\n<p><strong>Support your community and gain valuable exposure by becoming a sponsor today!</strong></p>\n<br />\n&nbsp\;
LOCATION:
UID:e.491.15778
SEQUENCE:3
DTSTAMP:20260421T113502Z
URL:https://members.belgradechamber.org/events/details/2025-fall-festival-sponsors-15778
END:VEVENT

END:VCALENDAR
