BEGIN:VCALENDAR
VERSION:2.0
PRODID:-//ChamberMaster//Event Calendar 2.0//EN
METHOD:PUBLISH
X-PUBLISHED-TTL:P3D
REFRESH-INTERVAL:P3D
CALSCALE:GREGORIAN
BEGIN:VEVENT
DTSTART:20250514T200000Z
DTEND:20250514T220000Z
X-MICROSOFT-CDO-ALLDAYEVENT:FALSE
SUMMARY:AMAZON HIRING EVENT- Onsite
DESCRIPTION:Amazon's Hiring Event is near\, and we cant wait to see everyone! As a reminder\, Amazon is hosting a hiring event at their new Delivery station in Belgrade\, Wednesday\, May 14th from 2p-4p. During this event we will be supporting job seekers with their application and processing through on site. We will also be offering FREE ice cream from Likity Split\, Music\, Fun Games\, and an opportunity to meet the site leadership! \n\n \n\nThank you to all that have shared this event online and with your job seekers. We also have the event posted on Facebook if you wanted to like and share   Facebook Post\n\n \n\nEvent Details:\n\n  Date: Wednesday\, May 14th\n\n  Time: 2:00 PM   4:00 PM\n\n  Location: Amazon WMT2 Building\n\n        104 Brewers Blvd\, Belgrade\, MT
X-ALT-DESC;FMTTYPE=text/html:<span style="font-family:aptos\,sans-serif\;"><span style="font-size:12.0pt\;">Amazon&rsquo\;s Hiring Event is near\, and we cant wait to see everyone! As a reminder\, Amazon is hosting a hiring event at their new Delivery station in Belgrade\, Wednesday\, May 14<sup>th</sup> from 2p-4p. During this event we will be supporting job seekers with their application and processing through on site. We will also be offering <strong>FREE</strong> ice cream from Likity Split\, Music\, Fun Games\, and an opportunity to meet the site leadership! </span></span><br />\n&nbsp\;<br />\n<span style="font-family:aptos\,sans-serif\;"><span style="font-size:12.0pt\;">Thank you to all that have shared this event online and with your job seekers. We also have the event posted on Facebook if you wanted to like and share </span></span><span style="font-family:segoe ui emoji\,sans-serif\;"><span style="font-size:12.0pt\;">&#128522\;</span></span><span style="font-family:aptos\,sans-serif\;"><span style="font-size:12.0pt\;"> <a href="https://www.facebook.com/events/1332700437818829/?acontext=%7B%22event_action_history%22%3A%5b%7B%22extra_data%22%3A%22%22%2C%22mechanism%22%3A%22calendar_past_events_unit%22%2C%22surface%22%3A%22bookmark_calendar%22%7D%2C%7B%22extra_data%22%3A%22%22%2C%22mechanism%22%3A%22surface%22%2C%22surface%22%3A%22permalink%22%7D%2C%7B%22extra_data%22%3A%22%22%2C%22mechanism%22%3A%22surface%22%2C%22surface%22%3A%22duplicate_dialog%22%7D%5d%2C%22ref_notif_type%22%3Anull%7D&amp\;onload_action=open_invite_flow&amp\;show_created_event_toast=true">Facebook Post</a></span></span><br />\n&nbsp\;<br />\n<strong><u><span style="background:yellow\;"><span style="font-size:12.0pt\;">Event Details:</span></span></u></strong><br />\n<span style="font-family:segoe ui emoji\,sans-serif\;"><span style="font-size:12.0pt\;">&#128197\;</span></span><span style="font-size:12.0pt\;"> Date: Wednesday\, May 14th</span><br />\n<span style="font-family:segoe ui emoji\,sans-serif\;"><span style="font-size:12.0pt\;">&#9200\;</span></span><span style="font-size:12.0pt\;"> Time: 2:00 PM &ndash\; 4:00 PM</span><br />\n<span style="font-family:segoe ui emoji\,sans-serif\;"><span style="font-size:12.0pt\;">&#128205\;</span></span><span style="font-size:12.0pt\;"> Location: Amazon WMT2 Building</span><br />\n<span style="font-size:12.0pt\;">&nbsp\;&nbsp\;&nbsp\;&nbsp\;&nbsp\;&nbsp\;&nbsp\; 104 Brewers Blvd\, Belgrade\, MT</span>
LOCATION:
UID:e.491.16204
SEQUENCE:3
DTSTAMP:20260421T084320Z
URL:https://members.belgradechamber.org/events/details/amazon-hiring-event-onsite-16204
END:VEVENT

END:VCALENDAR
