BEGIN:VCALENDAR
VERSION:2.0
PRODID:-//ChamberMaster//Event Calendar 2.0//EN
METHOD:PUBLISH
X-PUBLISHED-TTL:P3D
REFRESH-INTERVAL:P3D
CALSCALE:GREGORIAN
BEGIN:VEVENT
DTSTART:20250403T173000Z
DTEND:20250403T190000Z
X-MICROSOFT-CDO-ALLDAYEVENT:FALSE
SUMMARY:Belgrade Business Roundtable
DESCRIPTION:Child Care Concerns and Solutions\n\nRSVP HERE: https://prosperamt.org/calendar/event/102063
X-ALT-DESC;FMTTYPE=text/html:Child Care Concerns and Solutions<br />\nRSVP HERE:&nbsp\;<a href="https://prosperamt.org/calendar/event/102063">https://prosperamt.org/calendar/event/102063</a><br />\n&nbsp\;
LOCATION:
UID:e.491.16177
SEQUENCE:3
DTSTAMP:20260421T095657Z
URL:https://members.belgradechamber.org/events/details/belgrade-business-roundtable-04-03-2025-16177
END:VEVENT

END:VCALENDAR
