BEGIN:VCALENDAR
VERSION:2.0
PRODID:-//ChamberMaster//Event Calendar 2.0//EN
METHOD:PUBLISH
X-PUBLISHED-TTL:P3D
REFRESH-INTERVAL:P3D
CALSCALE:GREGORIAN
BEGIN:VEVENT
DTSTART:20250206T180000Z
DTEND:20250206T190000Z
X-MICROSOFT-CDO-ALLDAYEVENT:FALSE
SUMMARY:Belgrade Business Roundtable - Marketing Your Business with Prospera
DESCRIPTION:Date: Thursday\, February 6\, 2025 at 11:30am - 1:00pm\n\nEvent Venue: Belgrade Chamber of Commerce\n\nEvent Address: 10 E. Main St\, Belgrade\n\nEvent Description:\n\n \n\nJoin us for a roundtable discussion. This months topic is Marketing Your Business.\n\nLunch provided. Registration required - FREE to attend.
X-ALT-DESC;FMTTYPE=text/html:<h5 style="box-sizing: border-box\; margin-top: 0px\; margin-bottom: 8px\; line-height: 1.2\; font-size: 1.25rem\; color: rgb(82\, 133\, 133)\; font-family: expressway\, sans-serif\; letter-spacing: 2px\; background-color: rgb(255\, 255\, 255)\;"><span class="text-primary" style="box-sizing: border-box\; color: rgb(117\, 17\, 25) !important\;">Date:</span>&nbsp\;<span class="darkGray" style="box-sizing: border-box\;">Thursday\, February 6\, 2025 at 11:30am - 1:00pm</span></h5>\n\n<h5 style="box-sizing: border-box\; margin-top: 0px\; margin-bottom: 8px\; line-height: 1.2\; font-size: 1.25rem\; color: rgb(82\, 133\, 133)\; font-family: expressway\, sans-serif\; letter-spacing: 2px\; background-color: rgb(255\, 255\, 255)\;"><span class="text-primary" style="box-sizing: border-box\; color: rgb(117\, 17\, 25) !important\;">Event Venue:</span>&nbsp\;<span class="darkGray" style="box-sizing: border-box\;">Belgrade Chamber of Commerce</span></h5>\n\n<h5 style="box-sizing: border-box\; margin-top: 0px\; margin-bottom: 8px\; line-height: 1.2\; font-size: 1.25rem\; color: rgb(82\, 133\, 133)\; font-family: expressway\, sans-serif\; letter-spacing: 2px\; background-color: rgb(255\, 255\, 255)\;"><span class="text-primary" style="box-sizing: border-box\; color: rgb(117\, 17\, 25) !important\;">Event Address:</span>&nbsp\;<span class="darkGray" style="box-sizing: border-box\;">10 E. Main St\, Belgrade</span></h5>\n\n<h5 class="text-primary" style="box-sizing: border-box\; margin-top: 0px\; margin-bottom: 8px\; line-height: 1.2\; font-size: 1.25rem\; font-family: expressway\, sans-serif\; letter-spacing: 2px\; background-color: rgb(255\, 255\, 255)\; color: rgb(117\, 17\, 25) !important\;">Event Description:</h5>\n\n<p style="box-sizing: border-box\; margin-top: 0px\; margin-bottom: 15px\; font-family: &quot\;Open Sans&quot\;\, sans-serif\; color: rgb(102\, 102\, 102)\; line-height: 28px\; font-size: 16px\; background-color: rgb(255\, 255\, 255)\;">&nbsp\;</p>\n\n<p style="box-sizing: border-box\; margin-top: 0px\; margin-bottom: 15px\; font-family: &quot\;Open Sans&quot\;\, sans-serif\; color: rgb(102\, 102\, 102)\; line-height: 28px\; font-size: 16px\; background-color: rgb(255\, 255\, 255)\;">Join us for a roundtable discussion. This months topic is&nbsp\;<span style="box-sizing: border-box\; font-weight: bolder\;">Marketing Your Business</span>.</p>\n\n<p style="box-sizing: border-box\; margin-top: 0px\; margin-bottom: 15px\; font-family: &quot\;Open Sans&quot\;\, sans-serif\; color: rgb(102\, 102\, 102)\; line-height: 28px\; font-size: 16px\; background-color: rgb(255\, 255\, 255)\;">Lunch provided. Registration required - FREE to attend.</p>\n
LOCATION:
UID:e.491.15862
SEQUENCE:3
DTSTAMP:20260421T144206Z
URL:https://members.belgradechamber.org/events/details/belgrade-business-roundtable-marketing-your-business-with-prospera-15862
END:VEVENT

END:VCALENDAR
