BEGIN:VCALENDAR
VERSION:2.0
PRODID:-//ChamberMaster//Event Calendar 2.0//EN
METHOD:PUBLISH
X-PUBLISHED-TTL:P3D
REFRESH-INTERVAL:P3D
CALSCALE:GREGORIAN
BEGIN:VEVENT
DTSTART:20250712T180000Z
DTEND:20250712T220000Z
X-MICROSOFT-CDO-ALLDAYEVENT:FALSE
SUMMARY:Bozeman Stampede Rodeo Pageant
DESCRIPTION:
X-ALT-DESC;FMTTYPE=text/html:
LOCATION:
UID:e.491.16222
SEQUENCE:3
DTSTAMP:20260421T082902Z
URL:https://members.belgradechamber.org/events/details/bozeman-stampede-rodeo-pageant-07-12-2025-16222
END:VEVENT

END:VCALENDAR
