BEGIN:VCALENDAR
VERSION:2.0
PRODID:-//ChamberMaster//Event Calendar 2.0//EN
METHOD:PUBLISH
X-PUBLISHED-TTL:P3D
REFRESH-INTERVAL:P3D
CALSCALE:GREGORIAN
BEGIN:VEVENT
DTSTART:20240919T233000Z
DTEND:20240920T010000Z
X-MICROSOFT-CDO-ALLDAYEVENT:FALSE
SUMMARY:Business After Hours
DESCRIPTION:
X-ALT-DESC;FMTTYPE=text/html:
LOCATION:Location TBD
UID:e.491.15258
SEQUENCE:3
DTSTAMP:20260425T033442Z
URL:https://members.belgradechamber.org/events/details/business-after-hours-09-19-2024-15258
END:VEVENT

END:VCALENDAR
