BEGIN:VCALENDAR
VERSION:2.0
PRODID:-//ChamberMaster//Event Calendar 2.0//EN
METHOD:PUBLISH
X-PUBLISHED-TTL:P3D
REFRESH-INTERVAL:P3D
CALSCALE:GREGORIAN
BEGIN:VEVENT
DTSTART:20251119T003000Z
DTEND:20251119T003000Z
X-MICROSOFT-CDO-ALLDAYEVENT:FALSE
SUMMARY:Central Valley Fire Distrcit Board Meeting
DESCRIPTION:Click Here for Agenda
X-ALT-DESC;FMTTYPE=text/html:<a href="https://chambermaster.blob.core.windows.net/userfiles/UserFiles/chambers/491/File/2014_Newsletters/02November182025BoardMeetingAgenda.pdf">Click Here</a> for Agenda
LOCATION:
UID:e.491.16326
SEQUENCE:3
DTSTAMP:20260421T160918Z
URL:https://members.belgradechamber.org/events/details/central-valley-fire-distrcit-board-meeting-16326
END:VEVENT

END:VCALENDAR
