BEGIN:VCALENDAR
VERSION:2.0
PRODID:-//ChamberMaster//Event Calendar 2.0//EN
METHOD:PUBLISH
X-PUBLISHED-TTL:P3D
REFRESH-INTERVAL:P3D
CALSCALE:GREGORIAN
BEGIN:VEVENT
DTSTART:20250213T180000Z
DTEND:20250213T190000Z
X-MICROSOFT-CDO-ALLDAYEVENT:FALSE
SUMMARY:CITY OF BELGRADE ECONOMIC DEVELOPMENT FACE-to FACE
DESCRIPTION:Belgrade Economic Development Committee Face-to-Face\n\nWho:    City of Belgrade Economic Development Office\n\nWhat:  One-hour monthly listening session\n\nWhen: Second Thursday of each month from11 am to noon.\n\nFEBRUARY 13th TOPIC: BELGRADE DEVELOPMENT\n\nJason Karp\, Community Development Director will be presenting.\n\nWhere: Chamber office (if possible)\n\nWhy:    This open-door\, informal gathering is intended to create community dialogue on Belgrade's economic environment with a forward-thinking emphasis.
X-ALT-DESC;FMTTYPE=text/html:<br />\n<strong>Belgrade Economic Development Committee Face-to-Face</strong><br />\nWho:&nbsp\;&nbsp\;&nbsp\; City of Belgrade Economic Development Office<br />\nWhat:&nbsp\; One-hour monthly listening session<br />\nWhen: Second Thursday of each month from11 am to noon.<br />\n<strong style="color: rgb(51\, 51\, 51)\; font-family: sans-serif\, Arial\, Verdana\, &quot\;Trebuchet MS&quot\;\; font-size: 13px\;"><span style="font-size: 20px\;"><span style="background-color: rgb(255\, 255\, 255)\;">FEBRUARY 13th TOPIC: BELGRADE DEVELOPMENT</span><br />\nJason Karp\, Community Development Director will be presenting.</span></strong><br />\nWhere: Chamber office (if possible)<br />\nWhy:&nbsp\;&nbsp\;&nbsp\; This open-door\, informal gathering is intended to create community dialogue on Belgrade&#39\;s economic environment with a forward-thinking emphasis.
LOCATION:Belgrade Chamber of Commerce 10 E Main Belgrade\, MT
UID:e.491.15759
SEQUENCE:3
DTSTAMP:20260421T131925Z
URL:https://members.belgradechamber.org/events/details/city-of-belgrade-economic-development-face-to-face-02-13-2025-15759
END:VEVENT

END:VCALENDAR
