BEGIN:VCALENDAR
VERSION:2.0
PRODID:-//ChamberMaster//Event Calendar 2.0//EN
METHOD:PUBLISH
X-PUBLISHED-TTL:P3D
REFRESH-INTERVAL:P3D
CALSCALE:GREGORIAN
BEGIN:VEVENT
DTSTART:20250313T170000Z
DTEND:20250313T180000Z
X-MICROSOFT-CDO-ALLDAYEVENT:FALSE
SUMMARY:CITY OF BELGRADE ECONOMIC DEVELOPMENT FACE-to FACE
DESCRIPTION:Belgrade Economic Development Face-to-Face\n\nWho:    City of Belgrade Economic Development Office\n\nWhat:  TOPIC- Belgrade's Safe Streets for All Initiative\n\nWhen: Second Thursday of each month from11 am to noon.\n\n\n\nThe City of Belgrade is seeking input from the business community on the safety and functionality of our transportation system. Please join us at the next Economic Development Face-to-Face to hear about the development of the Belgrade Safety Action Plan. We will be encouraging questions and discussion and look forward to hearing your ideas. To learn more about the Safe Streets for All (SS4A) grant and the Safety Action Plan\, please visit the project website here: https://beheardbelgrade.com/safety-action-plan. While you're there\, please take a moment to fill out the transportation survey and add comments to the project map.\n\n \n\n \nJoin us for these working lunch meetings The Chamber will be providing a TACO BAR for your lunch!!! Please RSVP!\n\nStay engaged\, stay connected\, and let's build a stronger Belgrade together!
X-ALT-DESC;FMTTYPE=text/html:<strong>Belgrade Economic Development Face-to-Face</strong><br />\nWho:&nbsp\;&nbsp\;&nbsp\; City of Belgrade Economic Development Office<br />\nWhat:&nbsp\; <strong>TOPIC- Belgrade&#39\;s Safe Streets for All Initiative</strong><br />\nWhen: Second Thursday of each month from11 am to noon.<br />\n<br />\n<span style="font-size:14px\;">The City of Belgrade is seeking input from the business community on the safety and functionality of our transportation system. Please join us at the next Economic Development Face-to-Face to hear about the development of the Belgrade Safety Action Plan. We will be encouraging questions and discussion and look forward to hearing your ideas. To learn more about the Safe Streets for All (SS4A) grant and the Safety Action Plan\, please visit the project website here: <u><span style="color:blue\;"><a href="https://beheardbelgrade.com/safety-action-plan">https://beheardbelgrade.com/safety-action-plan</a></span></u>. While you&rsquo\;re there\, please take a moment to fill out the transportation survey and add comments to the project map.<br />\n&nbsp\;</span><br />\n&nbsp\;\n<p><strong>Join us for these working lunch meetings</strong>&mdash\;The Chamber will be providing a TACO BAR for your lunch!!! Please RSVP!</p>\n\n<p>Stay engaged\, stay connected\, and let&rsquo\;s build a stronger Belgrade together!&nbsp\;</p>\n
LOCATION:Belgrade Chamber of Commerce 10 E Main Belgrade\, MT
UID:e.491.15760
SEQUENCE:3
DTSTAMP:20260421T113307Z
URL:https://members.belgradechamber.org/events/details/city-of-belgrade-economic-development-face-to-face-03-13-2025-15760
END:VEVENT

END:VCALENDAR
