BEGIN:VCALENDAR
VERSION:2.0
PRODID:-//ChamberMaster//Event Calendar 2.0//EN
METHOD:PUBLISH
X-PUBLISHED-TTL:P3D
REFRESH-INTERVAL:P3D
CALSCALE:GREGORIAN
BEGIN:VEVENT
DTSTART:20250410T170000Z
DTEND:20250410T180000Z
X-MICROSOFT-CDO-ALLDAYEVENT:FALSE
SUMMARY:CITY OF BELGRADE ECONOMIC DEVELOPMENT FACE-to FACE
DESCRIPTION:Belgrade Economic Development Face-to-Face\n\nTo mark our first meeting in the new space\, Library Director Alina Prunean will lead a guided tour\, showcasing the facility's features and resources. This is a great opportunity to explore the new space\, learn about its offerings\, and discuss how the library can support economic and community development in Belgrade.\n\nWho:    City of Belgrade Economic Development Office\n\nWhat:  One-hour monthly listening session\n\nWhen: Second Thursday of each month from11 am to noon.\n\nWhere: Belgrade Community Library\n\nWhy:    This open-door\, informal gathering is intended to create community dialogue on Belgrade's economic environment with a forward-thinking emphasis.
X-ALT-DESC;FMTTYPE=text/html:<strong>Belgrade Economic Development Face-to-Face</strong><br />\n<span style="color: rgb(8\, 8\, 9)\; font-family: &quot\;Segoe UI Historic&quot\;\, &quot\;Segoe UI&quot\;\, Helvetica\, Arial\, sans-serif\; font-size: 15px\; background-color: rgb(255\, 255\, 255)\;">To mark our first meeting in the new space\, Library Director Alina Prunean will lead a guided tour\, showcasing the facility&rsquo\;s features and resources. This is a great opportunity to explore the new space\, learn about its offerings\, and discuss how the library can support economic and community development in Belgrade.</span><br />\nWho:&nbsp\;&nbsp\;&nbsp\; City of Belgrade Economic Development Office<br />\nWhat:&nbsp\; One-hour monthly listening session<br />\nWhen: Second Thursday of each month from11 am to noon.<br />\nWhere: Belgrade Community Library<br />\nWhy:&nbsp\;&nbsp\;&nbsp\; This open-door\, informal gathering is intended to create community dialogue on Belgrade&#39\;s economic environment with a forward-thinking emphasis.<br />\n&nbsp\;
LOCATION:Belgrade Community Library
UID:e.491.15761
SEQUENCE:3
DTSTAMP:20260421T100013Z
URL:https://members.belgradechamber.org/events/details/city-of-belgrade-economic-development-face-to-face-04-10-2025-15761
END:VEVENT

END:VCALENDAR
