BEGIN:VCALENDAR
VERSION:2.0
PRODID:-//ChamberMaster//Event Calendar 2.0//EN
METHOD:PUBLISH
X-PUBLISHED-TTL:P3D
REFRESH-INTERVAL:P3D
CALSCALE:GREGORIAN
BEGIN:VEVENT
DTSTART:20250516T200000Z
DTEND:20250517T220000Z
X-MICROSOFT-CDO-ALLDAYEVENT:FALSE
SUMMARY:Divisional Track Meet Volunteers Sign Up
DESCRIPTION:Volunteer Sign-Up for Divisionals Track Meet\n\nThe 2025 Building Belgrade Class is excited to support Belgrade High School in hosting the Divisionals Track Meet on May 16-17! With over 1\,000 athletes and their families attending\, we need your help to make this event a success.\n\nEach event station will require four volunteers per time slot\, and we also need helpers in the hospitality tent to assist with food\, drinks\, and general support.\n\nPlease select the time slot(s) that work best for you. You can spread your time out over both days or complete your hours in one day whatever works best for you! \n\nThank you for your time and dedication we couldn't do this without you!
X-ALT-DESC;FMTTYPE=text/html:<p data-end="50" data-start="0"><br />\n<br />\n<strong data-end="48" data-start="0">Volunteer Sign-Up for Divisionals Track Meet</strong></p>\n\n<p data-end="292" data-start="52">The 2025 Building Belgrade Class is excited to support Belgrade High School in hosting the Divisionals Track Meet on <strong data-end="182" data-start="169">May 16-17</strong>! With over <strong data-end="231" data-start="194">1\,000 athletes and their families</strong> attending\, we need your help to make this event a success.</p>\n\n<p data-end="465" data-start="294">Each event station will require <strong data-end="359" data-start="326">four volunteers per time slot</strong>\, and we also need helpers in the <strong data-end="413" data-start="393">hospitality tent</strong> to assist with food\, drinks\, and general support.</p>\n\n<p data-end="774" data-start="467">Please select the time slot(s) that work best for you. You can <strong data-end="569" data-start="530">spread your time out over both days</strong> or <strong data-end="636" data-start="573">complete your hours in one day&mdash\;whatever works best for you!</strong>&nbsp\;</p>\n\n<p data-end="847" data-is-last-node="" data-is-only-node="" data-start="776">Thank you for your time and dedication&mdash\;we couldn&rsquo\;t do this without you!</p>\n
LOCATION:Belgrade High School Event Center
UID:e.491.16164
SEQUENCE:3
DTSTAMP:20260421T083025Z
URL:https://members.belgradechamber.org/events/details/divisional-track-meet-volunteers-sign-up-16164
END:VEVENT

END:VCALENDAR
