BEGIN:VCALENDAR
VERSION:2.0
PRODID:-//ChamberMaster//Event Calendar 2.0//EN
METHOD:PUBLISH
X-PUBLISHED-TTL:P3D
REFRESH-INTERVAL:P3D
CALSCALE:GREGORIAN
BEGIN:VEVENT
DTSTART;VALUE=DATE:20251213
DTEND;VALUE=DATE:20251214
TRANSP:TRANSPARENT
X-MICROSOFT-CDO-ALLDAYEVENT:TRUE
SUMMARY:DOWNTOWN BUSINESSES Festival of Lights Christmas Tree Contest!!
DESCRIPTION:Downtown Tree Contest   In-Person Voting\n\nWho: Downtown businesses in the Festival of Lights "Hoopla Area"\n\nWhat to Do: Decorate your Christmas tree and display it for the public to enjoy!\n\n \n\nVoting:\n\n\n	Takes place the week leading up to and the night of the Festival of Lights   Friday\, December 13th.\n	The public will vote for their favorite decorated tree.\n	The Chamber will provide voting boxes!\n	 \n\n\nPrizes:\n\n\n	  The business with the most public votes will take home the coveted Tree Trophy and earn bragging rights for the year!\n	  All voters will be entered into a drawing for a gift basket packed with local goodies and gift cards.\n\n\nWinner will be announced on the 13th
X-ALT-DESC;FMTTYPE=text/html:<p class="cvGsUA direction-ltr align-start para-style-heading1" style="font-size: 13px\; color: rgb(184\, 91\, 117)\; caret-color: rgb(184\, 91\, 117)\; --8sD0Kg: none\; font-family: YAFcfjveRFU_0\, _fb_\, auto\; --cyV3ZQ: 19.5578px\; --gJPlXQ: 1.45\; letter-spacing: 0.15em\; text-transform: uppercase\; line-height: 28px\;"><span class="a_GcMg font-feature-liga-off font-feature-clig-off font-feature-calt-off text-decoration-none text-strikethrough-none" style="--Ys-XuQ: none\; font-weight: 700\; font-kerning: none\;">Downtown Tree Contest &ndash\; In-Person Voting</span></p>\n\n<p class="cvGsUA direction-ltr align-start para-style-heading1" style="font-size: 13px\; color: rgb(184\, 91\, 117)\; caret-color: rgb(184\, 91\, 117)\; --8sD0Kg: none\; font-family: YAFcfjveRFU_0\, _fb_\, auto\; --cyV3ZQ: 19.5578px\; --gJPlXQ: 1.45\; letter-spacing: 0.15em\; text-transform: uppercase\; line-height: 28px\;"><span class="a_GcMg font-feature-liga-off font-feature-clig-off font-feature-calt-off text-decoration-none text-strikethrough-none" style="--Ys-XuQ: none\; font-weight: 700\; font-kerning: none\;">Who: Downtown businesses in the Festival of Lights &ldquo\;Hoopla Area&rdquo\;</span></p>\n\n<p class="cvGsUA direction-ltr align-start para-style-heading1" style="font-size: 13px\; color: rgb(184\, 91\, 117)\; caret-color: rgb(184\, 91\, 117)\; --8sD0Kg: none\; font-family: YAFcfjveRFU_0\, _fb_\, auto\; --cyV3ZQ: 19.5578px\; --gJPlXQ: 1.45\; letter-spacing: 0.15em\; text-transform: uppercase\; line-height: 28px\;"><span class="a_GcMg font-feature-liga-off font-feature-clig-off font-feature-calt-off text-decoration-none text-strikethrough-none" style="--Ys-XuQ: none\; font-weight: 700\; font-kerning: none\;">What to Do: Decorate your Christmas tree and display it for the public to enjoy!</span></p>\n\n<p class="cvGsUA direction-ltr align-start para-style-heading1" style="font-size: 13px\; color: rgb(184\, 91\, 117)\; caret-color: rgb(184\, 91\, 117)\; --8sD0Kg: none\; font-family: YAFcfjveRFU_0\, _fb_\, auto\; --cyV3ZQ: 19.5578px\; --gJPlXQ: 1.45\; letter-spacing: 0.15em\; text-transform: uppercase\; line-height: 28px\;">&nbsp\;</p>\n\n<p class="cvGsUA direction-ltr align-start para-style-heading1" style="font-size: 13px\; color: rgb(184\, 91\, 117)\; caret-color: rgb(184\, 91\, 117)\; --8sD0Kg: none\; font-family: YAFcfjveRFU_0\, _fb_\, auto\; --cyV3ZQ: 19.5578px\; --gJPlXQ: 1.45\; letter-spacing: 0.15em\; text-transform: uppercase\; line-height: 28px\;"><span class="a_GcMg font-feature-liga-off font-feature-clig-off font-feature-calt-off text-decoration-none text-strikethrough-none" style="--Ys-XuQ: none\; font-weight: 700\; font-kerning: none\;">Voting:</span></p>\n\n<ul style="padding: 0px 40px\; color: rgb(51\, 51\, 51)\; font-family: sans-serif\, Arial\, Verdana\, &quot\;Trebuchet MS&quot\;\; font-size: 13px\;">\n	<li><span class="a_GcMg font-feature-liga-off font-feature-clig-off font-feature-calt-off text-decoration-none text-strikethrough-none" style="color: rgb(184\, 91\, 117)\; caret-color: rgb(184\, 91\, 117)\; --Ys-XuQ: none\; font-weight: 700\; font-kerning: none\;">Takes place the week leading up to and the night of the Festival of Lights &mdash\; Friday\, December 13th.</span></li>\n	<li><span class="a_GcMg font-feature-liga-off font-feature-clig-off font-feature-calt-off text-decoration-none text-strikethrough-none" style="color: rgb(184\, 91\, 117)\; caret-color: rgb(184\, 91\, 117)\; --Ys-XuQ: none\; font-weight: 700\; font-kerning: none\;">The public will vote for their favorite decorated tree.</span></li>\n	<li><span class="a_GcMg font-feature-liga-off font-feature-clig-off font-feature-calt-off text-decoration-none text-strikethrough-none" style="color: rgb(184\, 91\, 117)\; caret-color: rgb(184\, 91\, 117)\; --Ys-XuQ: none\; font-weight: 700\; font-kerning: none\;">The Chamber will provide voting boxes!</span></li>\n	<li>&nbsp\;</li>\n</ul>\n\n<p class="cvGsUA direction-ltr align-start para-style-heading1" style="font-size: 13px\; color: rgb(184\, 91\, 117)\; caret-color: rgb(184\, 91\, 117)\; --8sD0Kg: none\; font-family: YAFcfjveRFU_0\, _fb_\, auto\; --cyV3ZQ: 19.5578px\; --gJPlXQ: 1.45\; letter-spacing: 0.15em\; text-transform: uppercase\; line-height: 28px\;"><span class="a_GcMg font-feature-liga-off font-feature-clig-off font-feature-calt-off text-decoration-underline text-strikethrough-none" style="--Ys-XuQ: none\; font-weight: 700\; font-kerning: none\;">Prizes:</span></p>\n\n<ul style="padding: 0px 40px\; color: rgb(51\, 51\, 51)\; font-family: sans-serif\, Arial\, Verdana\, &quot\;Trebuchet MS&quot\;\; font-size: 13px\;">\n	<li><span class="a_GcMg font-feature-liga-off font-feature-clig-off font-feature-calt-off text-decoration-none text-strikethrough-none" style="color: rgb(184\, 91\, 117)\; caret-color: rgb(184\, 91\, 117)\; --Ys-XuQ: none\; font-weight: 700\; font-kerning: none\;">&#127942\; The business with the most public votes will take home the coveted Tree Trophy and earn bragging rights for the year!</span></li>\n	<li><span class="a_GcMg font-feature-liga-off font-feature-clig-off font-feature-calt-off text-decoration-none text-strikethrough-none" style="color: rgb(184\, 91\, 117)\; caret-color: rgb(184\, 91\, 117)\; --Ys-XuQ: none\; font-weight: 700\; font-kerning: none\;">&#127873\; All voters will be entered into a drawing for a gift basket packed with local goodies and gift cards.</span></li>\n</ul>\n\n<p class="cvGsUA direction-ltr align-start para-style-heading1" style="font-size: 13px\; color: rgb(184\, 91\, 117)\; caret-color: rgb(184\, 91\, 117)\; --8sD0Kg: none\; font-family: YAFcfjveRFU_0\, _fb_\, auto\; --cyV3ZQ: 19.5578px\; --gJPlXQ: 1.45\; letter-spacing: 0.15em\; text-transform: uppercase\; line-height: 28px\;"><span class="a_GcMg font-feature-liga-off font-feature-clig-off font-feature-calt-off text-decoration-none text-strikethrough-none" style="--Ys-XuQ: none\; font-weight: 700\; font-kerning: none\;">Winner will be announced on the 13th</span></p>\n
LOCATION:
UID:e.491.16323
SEQUENCE:3
DTSTAMP:20260421T191217Z
URL:https://members.belgradechamber.org/events/details/downtown-businesses-festival-of-lights-christmas-tree-contest-16323
END:VEVENT

END:VCALENDAR
