BEGIN:VCALENDAR
VERSION:2.0
PRODID:-//ChamberMaster//Event Calendar 2.0//EN
METHOD:PUBLISH
X-PUBLISHED-TTL:P3D
REFRESH-INTERVAL:P3D
CALSCALE:GREGORIAN
BEGIN:VEVENT
DTSTART:20240924T143000Z
DTEND:20240924T153000Z
X-MICROSOFT-CDO-ALLDAYEVENT:FALSE
SUMMARY:Economic Development September 26th
DESCRIPTION:Dede Semerad- Belgrade Public Schools\n\nNeil Cardwell- City of Belgrade\n\nTalking about City/School Land Swap\n\n\n\nPlease come with questions.
X-ALT-DESC;FMTTYPE=text/html:Dede Semerad- Belgrade Public Schools<br />\nNeil Cardwell- City of Belgrade<br />\nTalking about City/School Land Swap<br />\n<br />\nPlease come with questions.
LOCATION:Belgrade Chamber of Commerce
UID:e.491.15772
SEQUENCE:3
DTSTAMP:20260425T020613Z
URL:https://members.belgradechamber.org/events/details/economic-development-september-26th-15772
END:VEVENT

END:VCALENDAR
