BEGIN:VCALENDAR
VERSION:2.0
PRODID:-//ChamberMaster//Event Calendar 2.0//EN
METHOD:PUBLISH
X-PUBLISHED-TTL:P3D
REFRESH-INTERVAL:P3D
CALSCALE:GREGORIAN
BEGIN:VEVENT
DTSTART:20250811T233000Z
DTEND:20250812T010000Z
X-MICROSOFT-CDO-ALLDAYEVENT:FALSE
SUMMARY:Event Cancelled Due to Family Emergency
DESCRIPTION:CANCELLED DUE TO FAMIKY EMERGENCY
X-ALT-DESC;FMTTYPE=text/html:CANCELLED DUE TO FAMIKY EMERGENCY
LOCATION:
UID:e.491.16254
SEQUENCE:3
DTSTAMP:20260421T095807Z
URL:https://members.belgradechamber.org/events/details/event-cancelled-due-to-family-emergency-16254
END:VEVENT

END:VCALENDAR
