BEGIN:VCALENDAR
VERSION:2.0
PRODID:-//ChamberMaster//Event Calendar 2.0//EN
METHOD:PUBLISH
X-PUBLISHED-TTL:P3D
REFRESH-INTERVAL:P3D
CALSCALE:GREGORIAN
BEGIN:VEVENT
DTSTART:20240925T000000Z
DTEND:20240925T010000Z
X-MICROSOFT-CDO-ALLDAYEVENT:FALSE
SUMMARY:Fall Festival PARADE NUMBER PICKUP Meeting #1
DESCRIPTION:Parade Participation Guide  \n\nMandatory Pre-Check-In & Drivers' Meeting Please attend ONE OR THE OTHER\n\nAll participants must attend one of the scheduled pre-check-in and drivers' meetings. Attendance is mandatory to ensure a smooth and organized parade.\n\n \n\nImportant Details:\n\n1. Pre-Check-In & Drivers'/Participants Meeting What:\n\n\n	Pick Up Parade Number: Receive your parade number and participant materials.\n	Review Rules: Go over the parade rules and procedures with our Parade Manager.\n	Q&A Session: Address any questions or concerns.
X-ALT-DESC;FMTTYPE=text/html:<p class="cvGsUA direction-ltr align-start para-style-body" style="font-family: &quot\;YAFdJn5d8s0 0&quot\;\, _fb_\, auto\; --cyV3ZQ: 18.6666px\; --gJPlXQ: 1.4\; line-height: 26px\;"><span style="font-size:16px\;"><span class="OYPEnA font-feature-liga-off font-feature-clig-off font-feature-calt-off text-decoration-none text-strikethrough-none" style="font-weight: 700\; font-kerning: none\;">&nbsp\;Parade Participation Guide &#128663\;</span></span></p>\n\n<p class="cvGsUA direction-ltr align-start para-style-body" style="font-family: &quot\;YAFdJn5d8s0 0&quot\;\, _fb_\, auto\; --cyV3ZQ: 18.6666px\; --gJPlXQ: 1.4\; line-height: 26px\;"><span style="font-size:16px\;"><span class="OYPEnA font-feature-liga-off font-feature-clig-off font-feature-calt-off text-decoration-none text-strikethrough-none" style="font-weight: 700\; font-kerning: none\;">Mandatory Pre-Check-In &amp\; Drivers&#39\; Meeting Please attend ONE OR THE OTHER</span></span></p>\n\n<p class="cvGsUA direction-ltr align-start para-style-body" style="font-family: &quot\;YAFdJn5d8s0 0&quot\;\, _fb_\, auto\; --cyV3ZQ: 18.6666px\; --gJPlXQ: 1.4\; line-height: 26px\;"><span style="font-size:16px\;"><span class="OYPEnA font-feature-liga-off font-feature-clig-off font-feature-calt-off text-decoration-none text-strikethrough-none" style="font-weight: 700\; font-kerning: none\;">All participants must attend one of the scheduled pre-check-in and drivers&#39\; meetings. Attendance is mandatory to ensure a smooth and organized parade.</span></span></p>\n\n<p class="cvGsUA direction-ltr align-start para-style-body" style="font-family: &quot\;YAFdJn5d8s0 0&quot\;\, _fb_\, auto\; --cyV3ZQ: 18.6666px\; --gJPlXQ: 1.4\; line-height: 26px\;">&nbsp\;</p>\n\n<p class="cvGsUA direction-ltr align-start para-style-body" style="font-family: &quot\;YAFdJn5d8s0 0&quot\;\, _fb_\, auto\; --cyV3ZQ: 18.6666px\; --gJPlXQ: 1.4\; line-height: 26px\;"><span style="font-size:16px\;"><span class="OYPEnA font-feature-liga-off font-feature-clig-off font-feature-calt-off text-decoration-none text-strikethrough-none" style="font-weight: 700\; font-kerning: none\;">Important Details:</span></span></p>\n\n<p class="cvGsUA direction-ltr align-start para-style-body" style="font-family: &quot\;YAFdJn5d8s0 0&quot\;\, _fb_\, auto\; --cyV3ZQ: 18.6666px\; --gJPlXQ: 1.4\; line-height: 26px\;"><span style="font-size:16px\;"><span class="OYPEnA font-feature-liga-off font-feature-clig-off font-feature-calt-off text-decoration-none text-strikethrough-none" style="font-weight: 700\; font-kerning: none\;">1. Pre-Check-In &amp\; Drivers&#39\;/Participants Meeting&nbsp\;</span><span style="font-weight: 700\;">What:</span></span></p>\n\n<ul>\n	<li><span style="font-size:16px\;"><span class="OYPEnA font-feature-liga-off font-feature-clig-off font-feature-calt-off text-decoration-none text-strikethrough-none" style="font-weight: 700\; font-kerning: none\;">Pick Up Parade Number: Receive your parade number and participant materials.</span></span></li>\n	<li><span style="font-size:16px\;"><span class="OYPEnA font-feature-liga-off font-feature-clig-off font-feature-calt-off text-decoration-none text-strikethrough-none" style="font-weight: 700\; font-kerning: none\;">Review Rules: Go over the parade rules and procedures with our Parade Manager.</span></span></li>\n	<li><span style="font-size:16px\;"><span class="OYPEnA font-feature-liga-off font-feature-clig-off font-feature-calt-off text-decoration-none text-strikethrough-none" style="font-weight: 700\; font-kerning: none\;">Q&amp\;A Session: Address any questions or concerns.</span></span></li>\n</ul>\n
LOCATION:Belgrade Chamber of Commerce 10 E. Main Belgrade\, MT 59714
UID:e.491.15730
SEQUENCE:3
DTSTAMP:20260425T033714Z
URL:https://members.belgradechamber.org/events/details/fall-festival-parade-number-pickup-meeting-1-15730
END:VEVENT

END:VCALENDAR
