BEGIN:VCALENDAR
VERSION:2.0
PRODID:-//ChamberMaster//Event Calendar 2.0//EN
METHOD:PUBLISH
X-PUBLISHED-TTL:P3D
REFRESH-INTERVAL:P3D
CALSCALE:GREGORIAN
BEGIN:VEVENT
DTSTART:20250501T000000Z
DTEND:20250501T010000Z
X-MICROSOFT-CDO-ALLDAYEVENT:FALSE
SUMMARY:Fall Festival Planning Meeting
DESCRIPTION:Join us for our meeting tonight!!!\n\nWe are discussing all things FALL FESTIVAL!!
X-ALT-DESC;FMTTYPE=text/html:Join us for our meeting tonight!!!<br />\nWe are discussing all things FALL FESTIVAL!!
LOCATION:10 E. Main Belgrade\, MT Chamber Large Conference Room
UID:e.491.16198
SEQUENCE:3
DTSTAMP:20260421T095612Z
URL:https://members.belgradechamber.org/events/details/fall-festival-planning-meeting-16198
END:VEVENT

END:VCALENDAR
