BEGIN:VCALENDAR
VERSION:2.0
PRODID:-//ChamberMaster//Event Calendar 2.0//EN
METHOD:PUBLISH
X-PUBLISHED-TTL:P3D
REFRESH-INTERVAL:P3D
CALSCALE:GREGORIAN
BEGIN:VEVENT
DTSTART:20250731T000000Z
DTEND:20250731T010000Z
X-MICROSOFT-CDO-ALLDAYEVENT:FALSE
SUMMARY:Fall Festival Planning Meeting
DESCRIPTION:
X-ALT-DESC;FMTTYPE=text/html:
LOCATION:
UID:e.491.16227
SEQUENCE:3
DTSTAMP:20260421T082704Z
URL:https://members.belgradechamber.org/events/details/fall-festival-planning-meeting-16227
END:VEVENT

END:VCALENDAR
