BEGIN:VCALENDAR
VERSION:2.0
PRODID:-//ChamberMaster//Event Calendar 2.0//EN
METHOD:PUBLISH
X-PUBLISHED-TTL:P3D
REFRESH-INTERVAL:P3D
CALSCALE:GREGORIAN
BEGIN:VEVENT
DTSTART;VALUE=DATE:20250913
DTEND;VALUE=DATE:20250914
TRANSP:TRANSPARENT
X-MICROSOFT-CDO-ALLDAYEVENT:TRUE
SUMMARY:FULL!!!!!!!!2025 Fall Festival Vendors Full with waitlist!!!!
DESCRIPTION:Important Vendor Guidelines & Reminders:\n\n  Booth Information\n\n\n	\n	When registering\, please comment what you will be selling/making in your booth. This helps us balance the park and avoid duplication.\n	\n	\n	We will only allow one representative per company (for example\, only one vendor per direct sales company\, e.g.\, Scentsy\, Color Street\, etc.).\n	\n\n\n \n\n  Event Time\n\n\n	\n	Festival runs from 10:00 AM to 4:00 PM.\n	\n	\n	The parade starts at 10:00 AM   some early visitors will arrive\, but expect the majority of festival traffic after the parade (~11:00 AM).\n	\n\n\n  Weather Policy\n\n\n	\n	This event happens RAIN\, SNOW\, or SHINE   be prepared for Montana weather!\n	\n	\n	No refunds after September 1st.\n	\n\n\n  Reminders\n\n\n	\n	Register NOW to hold your spot   after June 16th we will open to Chamber members and then to the public if space remains.\n	\n	\n	This is a very popular event   space fills quickly!
X-ALT-DESC;FMTTYPE=text/html:<h3 data-end="649" data-start="605">Important Vendor Guidelines &amp\; Reminders:</h3>\n\n<p data-end="675" data-start="651">&#128073\; <strong data-end="675" data-start="654">Booth Information</strong></p>\n\n<ul data-end="963" data-start="676">\n	<li data-end="815" data-start="676">\n	<p data-end="815" data-start="678">When registering\, please <strong data-end="746" data-start="703">comment what you will be selling/making</strong> in your booth. This helps us balance the park and avoid duplication.</p>\n	</li>\n	<li data-end="963" data-start="816">\n	<p data-end="963" data-start="818">We will only allow <strong data-end="871" data-start="837">one representative per company</strong> (for example\, only one vendor per direct sales company\, e.g.\, Scentsy\, Color Street\, etc.).</p>\n	</li>\n</ul>\n\n<p data-end="986" data-start="965">&nbsp\;</p>\n\n<p data-end="1514" data-start="1497">&#128073\; <strong data-end="1514" data-start="1500">Event Time</strong></p>\n\n<ul data-end="1707" data-start="1515">\n	<li data-end="1562" data-start="1515">\n	<p data-end="1562" data-start="1517">Festival runs from <strong data-end="1559" data-start="1536">10:00 AM to 4:00 PM</strong>.</p>\n	</li>\n	<li data-end="1707" data-start="1563">\n	<p data-end="1707" data-start="1565">The parade starts at <strong data-end="1598" data-start="1586">10:00 AM</strong> &mdash\; some early visitors will arrive\, but expect the majority of festival traffic after the parade (~11:00 AM).</p>\n	</li>\n</ul>\n\n<p data-end="1730" data-start="1709">&#128073\; <strong data-end="1730" data-start="1712">Weather Policy</strong></p>\n\n<ul data-end="1851" data-start="1731">\n	<li data-end="1813" data-start="1731">\n	<p data-end="1813" data-start="1733">This event happens <strong data-end="1776" data-start="1752">RAIN\, SNOW\, or SHINE</strong> &mdash\; be prepared for Montana weather!</p>\n	</li>\n	<li data-end="1851" data-start="1814">\n	<p data-end="1851" data-start="1816"><strong data-end="1850" data-start="1816">No refunds after September 1st</strong>.</p>\n	</li>\n</ul>\n\n<p data-end="1869" data-start="1853">&#128073\; <strong data-end="1869" data-start="1856">Reminders</strong></p>\n\n<ul data-end="2049" data-start="1870">\n	<li data-end="1995" data-start="1870">\n	<p data-end="1995" data-start="1872">Register NOW to hold your spot &mdash\; after June 16th we will open to Chamber members and then to the public if space remains.</p>\n	</li>\n	<li data-end="2049" data-start="1996">\n	<p data-end="2049" data-start="1998">This is a very popular event &mdash\; space fills quickly!</p>\n	</li>\n</ul>\n
LOCATION:Event Location Belgrade Senior Center Area (E. Cameron Ave) and Lions Baseball Park The map will look a little different this year due to City updates happening in the park area. We will TRY to accommodate location requests\, but we cannot guarantee specific spots. Setup Info Setup begins at 7:00 AM on Saturday\, September 13th. You MUST check in before setting up to ensure you are in your correct spot. Maps and space numbers will be emailed to you two weeks prior to the event.
UID:e.491.16223
SEQUENCE:3
DTSTAMP:20260421T131615Z
URL:https://members.belgradechamber.org/events/details/full-2025-fall-festival-vendors-full-with-waitlist-16223
END:VEVENT

END:VCALENDAR
