BEGIN:VCALENDAR
VERSION:2.0
PRODID:-//ChamberMaster//Event Calendar 2.0//EN
METHOD:PUBLISH
X-PUBLISHED-TTL:P3D
REFRESH-INTERVAL:P3D
CALSCALE:GREGORIAN
BEGIN:VEVENT
DTSTART;VALUE=DATE:20251213
DTEND;VALUE=DATE:20251214
TRANSP:TRANSPARENT
X-MICROSOFT-CDO-ALLDAYEVENT:TRUE
SUMMARY:Holiday Tree Contest Prize Sponsors!
DESCRIPTION:Festival of Lights Christmas Tree Contest 2025  \n\nGet festive\, Belgrade! Show off your holiday spirit and decorating skills   we've got two fun ways to participate this year\, with prizes\, bragging rights\, and gift baskets filled with local goodies and gift cards up for grabs!\n\n \n\n1. Downtown Tree Contest   In-Person Voting\n\nWho: Downtown businesses in the Festival of Lights "Hoopla Area"\n\nWhat to Do: Decorate your Christmas tree and display it for the public to enjoy!\n\n \n\nVoting:\n\n\n	Takes place the week leading up to and the night of the Festival of Lights   Friday\, December 13th.\n	The public will vote for their favorite decorated tree.\n	The Chamber will provide voting boxes! \n	 \n\n\nPrizes:\n\n\n	  The business with the most public votes will take home the coveted Tree Trophy and earn bragging rights for the year!\n	  All voters will be entered into a drawing for a gift basket packed with local goodies and gift cards.\n\n\nWinner will be announced on the 13th\n\n \n\n2. Online Tree Contest  \n\nChamber Member Facebook Challenge\n\nWho: All Belgrade Chamber Members\n\nWhat to Do:\n\n\n	Decorate your tree and email a photo to the Chamber by December 10th to enter.\n\n\n \n\nVoting:\n\n\n	Runs December 13 20 on the Belgrade Chamber Facebook page.\n	Votes will be counted by the number of "likes" on each photo in the Christmas Tree Contest album.\n	 \n\n\nPrizes:\n\n\n	  The tree with the most "likes" wins a custom plaque and major bragging rights!\n	  Everyone who "likes" (votes) will also be entered into a drawing for another gift basket full of local treats and gift cards.\n\n\n  Let's make Belgrade shine bright this holiday season!\n\nContest and Voting ends December 20th\n\nWinners will be announced on the 22nd.
X-ALT-DESC;FMTTYPE=text/html:<p class="cvGsUA direction-ltr align-start para-style-heading1" style="color: rgba(184\,91\,117\,var(--O42jJQ\,1))\; caret-color: rgb(184\, 91\, 117)\; --8sD0Kg: none\; font-family: YAFcfjveRFU_0\, _fb_\, auto\; --cyV3ZQ: 19.5578px\; --gJPlXQ: 1.45\; letter-spacing: 0.15em\; text-transform: uppercase\; line-height: 28px\;"><span class="a_GcMg font-feature-liga-off font-feature-clig-off font-feature-calt-off text-decoration-none text-strikethrough-none" style="color: rgba(184\,91\,117\,var(--O42jJQ\,1))\; --Ys-XuQ: none\; font-weight: 700\; font-kerning: none\;">Festival of Lights Christmas Tree Contest 2025 &#127876\;</span></p>\n\n<p class="cvGsUA direction-ltr align-start para-style-heading1" style="color: rgba(184\,91\,117\,var(--O42jJQ\,1))\; caret-color: rgb(184\, 91\, 117)\; --8sD0Kg: none\; font-family: YAFcfjveRFU_0\, _fb_\, auto\; --cyV3ZQ: 19.5578px\; --gJPlXQ: 1.45\; letter-spacing: 0.15em\; text-transform: uppercase\; line-height: 28px\;"><span class="a_GcMg font-feature-liga-off font-feature-clig-off font-feature-calt-off text-decoration-none text-strikethrough-none" style="color: rgba(184\,91\,117\,var(--O42jJQ\,1))\; --Ys-XuQ: none\; font-weight: 700\; font-kerning: none\;">Get festive\, Belgrade! Show off your holiday spirit and decorating skills &mdash\; we&rsquo\;ve got two fun ways to participate this year\, with prizes\, bragging rights\, and gift baskets filled with local goodies and gift cards up for grabs!</span><br />\n&nbsp\;</p>\n\n<p class="cvGsUA direction-ltr align-start para-style-heading1" style="color: rgba(184\,91\,117\,var(--O42jJQ\,1))\; caret-color: rgb(184\, 91\, 117)\; --8sD0Kg: none\; font-family: YAFcfjveRFU_0\, _fb_\, auto\; --cyV3ZQ: 19.5578px\; --gJPlXQ: 1.45\; letter-spacing: 0.15em\; text-transform: uppercase\; line-height: 28px\;"><span class="a_GcMg font-feature-liga-off font-feature-clig-off font-feature-calt-off text-decoration-none text-strikethrough-none" style="color: rgba(184\,91\,117\,var(--O42jJQ\,1))\; --Ys-XuQ: none\; font-weight: 700\; font-kerning: none\;">1. Downtown Tree Contest &ndash\; In-Person Voting</span></p>\n\n<p class="cvGsUA direction-ltr align-start para-style-heading1" style="color: rgba(184\,91\,117\,var(--O42jJQ\,1))\; caret-color: rgb(184\, 91\, 117)\; --8sD0Kg: none\; font-family: YAFcfjveRFU_0\, _fb_\, auto\; --cyV3ZQ: 19.5578px\; --gJPlXQ: 1.45\; letter-spacing: 0.15em\; text-transform: uppercase\; line-height: 28px\;"><span class="a_GcMg font-feature-liga-off font-feature-clig-off font-feature-calt-off text-decoration-none text-strikethrough-none" style="color: rgba(184\,91\,117\,var(--O42jJQ\,1))\; --Ys-XuQ: none\; font-weight: 700\; font-kerning: none\;">Who: Downtown businesses in the Festival of Lights &ldquo\;Hoopla Area&rdquo\;</span></p>\n\n<p class="cvGsUA direction-ltr align-start para-style-heading1" style="color: rgba(184\,91\,117\,var(--O42jJQ\,1))\; caret-color: rgb(184\, 91\, 117)\; --8sD0Kg: none\; font-family: YAFcfjveRFU_0\, _fb_\, auto\; --cyV3ZQ: 19.5578px\; --gJPlXQ: 1.45\; letter-spacing: 0.15em\; text-transform: uppercase\; line-height: 28px\;"><span class="a_GcMg font-feature-liga-off font-feature-clig-off font-feature-calt-off text-decoration-none text-strikethrough-none" style="color: rgba(184\,91\,117\,var(--O42jJQ\,1))\; --Ys-XuQ: none\; font-weight: 700\; font-kerning: none\;">What to Do: Decorate your Christmas tree and display it for the public to enjoy!</span></p>\n\n<p class="cvGsUA direction-ltr align-start para-style-heading1" style="color: rgba(184\,91\,117\,var(--O42jJQ\,1))\; caret-color: rgb(184\, 91\, 117)\; --8sD0Kg: none\; font-family: YAFcfjveRFU_0\, _fb_\, auto\; --cyV3ZQ: 19.5578px\; --gJPlXQ: 1.45\; letter-spacing: 0.15em\; text-transform: uppercase\; line-height: 28px\;">&nbsp\;</p>\n\n<p class="cvGsUA direction-ltr align-start para-style-heading1" style="color: rgba(184\,91\,117\,var(--O42jJQ\,1))\; caret-color: rgb(184\, 91\, 117)\; --8sD0Kg: none\; font-family: YAFcfjveRFU_0\, _fb_\, auto\; --cyV3ZQ: 19.5578px\; --gJPlXQ: 1.45\; letter-spacing: 0.15em\; text-transform: uppercase\; line-height: 28px\;"><span class="a_GcMg font-feature-liga-off font-feature-clig-off font-feature-calt-off text-decoration-none text-strikethrough-none" style="color: rgba(184\,91\,117\,var(--O42jJQ\,1))\; --Ys-XuQ: none\; font-weight: 700\; font-kerning: none\;">Voting:</span></p>\n\n<ul>\n	<li><span class="a_GcMg font-feature-liga-off font-feature-clig-off font-feature-calt-off text-decoration-none text-strikethrough-none" style="color: rgba(184\,91\,117\,var(--O42jJQ\,1))\; caret-color: rgb(184\, 91\, 117)\; --Ys-XuQ: none\; font-weight: 700\; font-kerning: none\;">Takes place the week leading up to and the night of the Festival of Lights &mdash\; Friday\, December 13th.</span></li>\n	<li><span class="a_GcMg font-feature-liga-off font-feature-clig-off font-feature-calt-off text-decoration-none text-strikethrough-none" style="color: rgba(184\,91\,117\,var(--O42jJQ\,1))\; caret-color: rgb(184\, 91\, 117)\; --Ys-XuQ: none\; font-weight: 700\; font-kerning: none\;">The public will vote for their favorite decorated tree.</span></li>\n	<li><span class="a_GcMg font-feature-liga-off font-feature-clig-off font-feature-calt-off text-decoration-none text-strikethrough-none" style="color: rgba(184\,91\,117\,var(--O42jJQ\,1))\; caret-color: rgb(184\, 91\, 117)\; --Ys-XuQ: none\; font-weight: 700\; font-kerning: none\;">The Chamber will provide voting boxes!</span><span class="a_GcMg font-feature-liga-off font-feature-clig-off font-feature-calt-off text-decoration-none text-strikethrough-none white-space-prewrap" style="color: rgba(184\,91\,117\,var(--O42jJQ\,1))\; caret-color: rgb(184\, 91\, 117)\; --Ys-XuQ: none\; font-weight: 700\; font-kerning: none\;"> </span></li>\n	<li>&nbsp\;</li>\n</ul>\n\n<p class="cvGsUA direction-ltr align-start para-style-heading1" style="color: rgba(184\,91\,117\,var(--O42jJQ\,1))\; caret-color: rgb(184\, 91\, 117)\; --8sD0Kg: none\; font-family: YAFcfjveRFU_0\, _fb_\, auto\; --cyV3ZQ: 19.5578px\; --gJPlXQ: 1.45\; letter-spacing: 0.15em\; text-transform: uppercase\; line-height: 28px\;"><span class="a_GcMg font-feature-liga-off font-feature-clig-off font-feature-calt-off text-decoration-underline text-strikethrough-none" style="color: rgba(184\,91\,117\,var(--O42jJQ\,1))\; --Ys-XuQ: none\; font-weight: 700\; font-kerning: none\;">Prizes:</span></p>\n\n<ul>\n	<li><span class="a_GcMg font-feature-liga-off font-feature-clig-off font-feature-calt-off text-decoration-none text-strikethrough-none" style="color: rgba(184\,91\,117\,var(--O42jJQ\,1))\; caret-color: rgb(184\, 91\, 117)\; --Ys-XuQ: none\; font-weight: 700\; font-kerning: none\;">&#127942\; The business with the most public votes will take home the coveted Tree Trophy and earn bragging rights for the year!</span></li>\n	<li><span class="a_GcMg font-feature-liga-off font-feature-clig-off font-feature-calt-off text-decoration-none text-strikethrough-none" style="color: rgba(184\,91\,117\,var(--O42jJQ\,1))\; caret-color: rgb(184\, 91\, 117)\; --Ys-XuQ: none\; font-weight: 700\; font-kerning: none\;">&#127873\; All voters will be entered into a drawing for a gift basket packed with local goodies and gift cards.</span></li>\n</ul>\n\n<p class="cvGsUA direction-ltr align-start para-style-heading1" style="color: rgba(184\,91\,117\,var(--O42jJQ\,1))\; caret-color: rgb(184\, 91\, 117)\; --8sD0Kg: none\; font-family: YAFcfjveRFU_0\, _fb_\, auto\; --cyV3ZQ: 19.5578px\; --gJPlXQ: 1.45\; letter-spacing: 0.15em\; text-transform: uppercase\; line-height: 28px\;"><span class="a_GcMg font-feature-liga-off font-feature-clig-off font-feature-calt-off text-decoration-none text-strikethrough-none" style="color: rgba(184\,91\,117\,var(--O42jJQ\,1))\; --Ys-XuQ: none\; font-weight: 700\; font-kerning: none\;">Winner will be announced on the 13th</span><br />\n&nbsp\;</p>\n\n<p class="cvGsUA direction-ltr align-start para-style-heading1" style="color: rgba(91\,158\,168\,var(--O42jJQ\,1))\; caret-color: rgb(91\, 158\, 168)\; --8sD0Kg: none\; font-family: YAFcfjveRFU_0\, _fb_\, auto\; --cyV3ZQ: 19.5578px\; --gJPlXQ: 1.45\; letter-spacing: 0.15em\; text-transform: uppercase\; line-height: 28px\;"><span class="a_GcMg font-feature-liga-off font-feature-clig-off font-feature-calt-off text-decoration-none text-strikethrough-none" style="color: rgba(91\,158\,168\,var(--O42jJQ\,1))\; --Ys-XuQ: none\; font-weight: 700\; font-kerning: none\;">2. Online Tree Contest &ndash\;</span></p>\n\n<p class="cvGsUA direction-ltr align-start para-style-heading1" style="color: rgba(91\,158\,168\,var(--O42jJQ\,1))\; caret-color: rgb(91\, 158\, 168)\; --8sD0Kg: none\; font-family: YAFcfjveRFU_0\, _fb_\, auto\; --cyV3ZQ: 19.5578px\; --gJPlXQ: 1.45\; letter-spacing: 0.15em\; text-transform: uppercase\; line-height: 28px\;"><span class="a_GcMg font-feature-liga-off font-feature-clig-off font-feature-calt-off text-decoration-none text-strikethrough-none" style="color: rgba(91\,158\,168\,var(--O42jJQ\,1))\; --Ys-XuQ: none\; font-weight: 700\; font-kerning: none\;">Chamber Member Facebook Challenge</span></p>\n\n<p class="cvGsUA direction-ltr align-start para-style-heading1" style="color: rgba(91\,158\,168\,var(--O42jJQ\,1))\; caret-color: rgb(91\, 158\, 168)\; --8sD0Kg: none\; font-family: YAFcfjveRFU_0\, _fb_\, auto\; --cyV3ZQ: 19.5578px\; --gJPlXQ: 1.45\; letter-spacing: 0.15em\; text-transform: uppercase\; line-height: 28px\;"><span class="a_GcMg font-feature-liga-off font-feature-clig-off font-feature-calt-off text-decoration-none text-strikethrough-none" style="color: rgba(91\,158\,168\,var(--O42jJQ\,1))\; --Ys-XuQ: none\; font-weight: 700\; font-kerning: none\;">Who: All Belgrade Chamber Members</span></p>\n\n<p class="cvGsUA direction-ltr align-start para-style-heading1" style="color: rgba(91\,158\,168\,var(--O42jJQ\,1))\; caret-color: rgb(91\, 158\, 168)\; --8sD0Kg: none\; font-family: YAFcfjveRFU_0\, _fb_\, auto\; --cyV3ZQ: 19.5578px\; --gJPlXQ: 1.45\; letter-spacing: 0.15em\; text-transform: uppercase\; line-height: 28px\;"><span class="a_GcMg font-feature-liga-off font-feature-clig-off font-feature-calt-off text-decoration-none text-strikethrough-none" style="color: rgba(91\,158\,168\,var(--O42jJQ\,1))\; --Ys-XuQ: none\; font-weight: 700\; font-kerning: none\;">What to Do:</span></p>\n\n<ul>\n	<li><span class="a_GcMg font-feature-liga-off font-feature-clig-off font-feature-calt-off text-decoration-none text-strikethrough-none" style="color: rgba(91\,158\,168\,var(--O42jJQ\,1))\; caret-color: rgb(91\, 158\, 168)\; --Ys-XuQ: none\; font-weight: 700\; font-kerning: none\;">Decorate your tree and email a photo to the Chamber by December 10th to enter.</span></li>\n</ul>\n\n<p class="cvGsUA direction-ltr align-start para-style-heading1" style="color: rgba(91\,158\,168\,var(--O42jJQ\,1))\; caret-color: rgb(91\, 158\, 168)\; --8sD0Kg: none\; font-family: YAFcfjveRFU_0\, _fb_\, auto\; --cyV3ZQ: 19.5578px\; --gJPlXQ: 1.45\; letter-spacing: 0.15em\; text-transform: uppercase\; line-height: 28px\;">&nbsp\;</p>\n\n<p class="cvGsUA direction-ltr align-start para-style-heading1" style="color: rgba(91\,158\,168\,var(--O42jJQ\,1))\; caret-color: rgb(91\, 158\, 168)\; --8sD0Kg: none\; font-family: YAFcfjveRFU_0\, _fb_\, auto\; --cyV3ZQ: 19.5578px\; --gJPlXQ: 1.45\; letter-spacing: 0.15em\; text-transform: uppercase\; line-height: 28px\;"><span class="a_GcMg font-feature-liga-off font-feature-clig-off font-feature-calt-off text-decoration-none text-strikethrough-none" style="color: rgba(91\,158\,168\,var(--O42jJQ\,1))\; --Ys-XuQ: none\; font-weight: 700\; font-kerning: none\;">Voting:</span></p>\n\n<ul>\n	<li><span class="a_GcMg font-feature-liga-off font-feature-clig-off font-feature-calt-off text-decoration-none text-strikethrough-none" style="color: rgba(91\,158\,168\,var(--O42jJQ\,1))\; caret-color: rgb(91\, 158\, 168)\; --Ys-XuQ: none\; font-weight: 700\; font-kerning: none\;">Runs December 13&ndash\;20 on the Belgrade Chamber Facebook page.</span></li>\n	<li><span class="a_GcMg font-feature-liga-off font-feature-clig-off font-feature-calt-off text-decoration-none text-strikethrough-none" style="color: rgba(91\,158\,168\,var(--O42jJQ\,1))\; caret-color: rgb(91\, 158\, 168)\; --Ys-XuQ: none\; font-weight: 700\; font-kerning: none\;">Votes will be counted by the number of &ldquo\;likes&rdquo\; on each photo in the Christmas Tree Contest album.</span></li>\n	<li>&nbsp\;</li>\n</ul>\n\n<p class="cvGsUA direction-ltr align-start para-style-heading1" style="color: rgba(91\,158\,168\,var(--O42jJQ\,1))\; caret-color: rgb(91\, 158\, 168)\; --8sD0Kg: none\; font-family: YAFcfjveRFU_0\, _fb_\, auto\; --cyV3ZQ: 19.5578px\; --gJPlXQ: 1.45\; letter-spacing: 0.15em\; text-transform: uppercase\; line-height: 28px\;"><span class="a_GcMg font-feature-liga-off font-feature-clig-off font-feature-calt-off text-decoration-underline text-strikethrough-none" style="color: rgba(91\,158\,168\,var(--O42jJQ\,1))\; --Ys-XuQ: none\; font-weight: 700\; font-kerning: none\;">Prizes:</span></p>\n\n<ul>\n	<li><span class="a_GcMg font-feature-liga-off font-feature-clig-off font-feature-calt-off text-decoration-none text-strikethrough-none" style="color: rgba(91\,158\,168\,var(--O42jJQ\,1))\; caret-color: rgb(91\, 158\, 168)\; --Ys-XuQ: none\; font-weight: 700\; font-kerning: none\;">&#127941\; The tree with the most &ldquo\;likes&rdquo\; wins a custom plaque and major bragging rights!</span></li>\n	<li><span class="a_GcMg font-feature-liga-off font-feature-clig-off font-feature-calt-off text-decoration-none text-strikethrough-none" style="color: rgba(91\,158\,168\,var(--O42jJQ\,1))\; caret-color: rgb(91\, 158\, 168)\; --Ys-XuQ: none\; font-weight: 700\; font-kerning: none\;">&#127873\; Everyone who &ldquo\;likes&rdquo\; (votes) will also be entered into a drawing for another gift basket full of local treats and gift cards.</span></li>\n</ul>\n\n<p class="cvGsUA direction-ltr align-start para-style-heading1" style="color: rgba(91\,158\,168\,var(--O42jJQ\,1))\; caret-color: rgb(91\, 158\, 168)\; --8sD0Kg: none\; font-family: YAFcfjveRFU_0\, _fb_\, auto\; --cyV3ZQ: 19.5578px\; --gJPlXQ: 1.45\; letter-spacing: 0.15em\; text-transform: uppercase\; line-height: 28px\;"><span class="a_GcMg font-feature-liga-off font-feature-clig-off font-feature-calt-off text-decoration-none text-strikethrough-none" style="color: rgba(91\,158\,168\,var(--O42jJQ\,1))\; --Ys-XuQ: none\; font-weight: 700\; font-kerning: none\;">&#10024\; Let&rsquo\;s make Belgrade shine bright this holiday season!</span></p>\n\n<p class="cvGsUA direction-ltr align-start para-style-heading1" style="color: rgba(91\,158\,168\,var(--O42jJQ\,1))\; caret-color: rgb(91\, 158\, 168)\; --8sD0Kg: none\; font-family: YAFcfjveRFU_0\, _fb_\, auto\; --cyV3ZQ: 19.5578px\; --gJPlXQ: 1.45\; letter-spacing: 0.15em\; text-transform: uppercase\; line-height: 28px\;"><span class="a_GcMg font-feature-liga-off font-feature-clig-off font-feature-calt-off text-decoration-none text-strikethrough-none" style="color: rgba(91\,158\,168\,var(--O42jJQ\,1))\; --Ys-XuQ: none\; font-weight: 700\; font-kerning: none\;">Contest and Voting ends December 20th</span></p>\n\n<p class="cvGsUA direction-ltr align-start para-style-heading1" style="color: rgba(91\,158\,168\,var(--O42jJQ\,1))\; caret-color: rgb(91\, 158\, 168)\; --8sD0Kg: none\; font-family: YAFcfjveRFU_0\, _fb_\, auto\; --cyV3ZQ: 19.5578px\; --gJPlXQ: 1.45\; letter-spacing: 0.15em\; text-transform: uppercase\; line-height: 28px\;"><span class="a_GcMg font-feature-liga-off font-feature-clig-off font-feature-calt-off text-decoration-none text-strikethrough-none" style="color: rgba(91\,158\,168\,var(--O42jJQ\,1))\; --Ys-XuQ: none\; font-weight: 700\; font-kerning: none\;">Winners will be announced on the 22nd.</span></p>\n\n<p class="cvGsUA direction-ltr align-start para-style-heading1" style="color: rgba(184\,91\,117\,var(--O42jJQ\,1))\; caret-color: rgb(184\, 91\, 117)\; --8sD0Kg: none\; font-family: YAFcfjveRFU_0\, _fb_\, auto\; --cyV3ZQ: 19.5578px\; --gJPlXQ: 1.45\; letter-spacing: 0.15em\; text-transform: uppercase\; line-height: 28px\;">&nbsp\;</p>\n\n<p class="cvGsUA direction-ltr align-start para-style-heading1" style="color: rgba(184\,91\,117\,var(--O42jJQ\,1))\; caret-color: rgb(184\, 91\, 117)\; --8sD0Kg: none\; font-family: YAFcfjveRFU_0\, _fb_\, auto\; --cyV3ZQ: 19.5578px\; --gJPlXQ: 1.45\; letter-spacing: 0.15em\; text-transform: uppercase\; line-height: 28px\;">&nbsp\;</p>\n
LOCATION:2 CONTESTS THIS YEAR!!! Online for Chamber Members Downtown Business Competition
UID:e.491.16273
SEQUENCE:3
DTSTAMP:20260421T191023Z
URL:https://members.belgradechamber.org/events/details/holiday-tree-contest-prize-sponsors-16273
END:VEVENT

END:VCALENDAR
