BEGIN:VCALENDAR
VERSION:2.0
PRODID:-//ChamberMaster//Event Calendar 2.0//EN
METHOD:PUBLISH
X-PUBLISHED-TTL:P3D
REFRESH-INTERVAL:P3D
CALSCALE:GREGORIAN
BEGIN:VEVENT
DTSTART:20250801T180000Z
DTEND:20250801T180000Z
X-MICROSOFT-CDO-ALLDAYEVENT:FALSE
SUMMARY:LUNCH SPONSORS- Economic Development
DESCRIPTION:Support Economic Growth in Belgrade!\n\nSponsor our Monthly Economic Development Educational Classes and showcase your business as a leader in our community. With your sponsorship\, you'll receive:\n\n	Social Media Recognition: Your business highlighted on Chamber and City social channels.\n	Event Signage: Prominent logo placement at the food table during each class.\n	Online Calendar Listings: Recognition on both the Chamber and City of Belgrade event calendars.\n\nYou can sponsor one month or commit to multiple months for increased visibility. Together\, we'll foster growth\, innovation\, and collaboration in our community.\n\nReady to make an impact? Secure your sponsorship today!
X-ALT-DESC;FMTTYPE=text/html:<strong><span style="font-family:aptos\,sans-serif\;">Support Economic Growth in Belgrade!</span></strong><br />\nSponsor our&nbsp\;<strong data-end="163" data-start="111"><span style="font-family:aptos\,sans-serif\;">Monthly Economic Development Educational Classes</span></strong>&nbsp\;and showcase your business as a leader in our community. With your sponsorship\, you&#39\;ll receive:\n<ul>\n	<li data-end="359" data-start="263"><strong data-end="293" data-start="265"><span style="font-family:aptos\,sans-serif\;">Social Media Recognition</span></strong>: Your business highlighted on Chamber and City social channels.</li>\n	<li data-end="444" data-start="360"><strong data-end="379" data-start="362"><span style="font-family:aptos\,sans-serif\;">Event Signage</span></strong>: Prominent logo placement at the food table during each class.</li>\n	<li data-end="548" data-start="445"><strong data-end="475" data-start="447"><span style="font-family:aptos\,sans-serif\;">Online Calendar Listings</span></strong>: Recognition on both the Chamber and City of Belgrade event calendars.</li>\n</ul>\nYou can sponsor&nbsp\;<strong data-end="579" data-start="566"><span style="font-family:aptos\,sans-serif\;">one month</span></strong>&nbsp\;or commit to multiple months for increased visibility. Together\, we&rsquo\;ll foster growth\, innovation\, and collaboration in our community.<br />\n<strong data-end="746" data-start="718"><span style="font-family:aptos\,sans-serif\;">Ready to make an impact?</span></strong>&nbsp\;Secure your sponsorship today!
LOCATION:
UID:e.491.16179
SEQUENCE:3
DTSTAMP:20260421T095443Z
URL:https://members.belgradechamber.org/events/details/lunch-sponsors-economic-development-16179
END:VEVENT

END:VCALENDAR
