BEGIN:VCALENDAR
VERSION:2.0
PRODID:-//ChamberMaster//Event Calendar 2.0//EN
METHOD:PUBLISH
X-PUBLISHED-TTL:P3D
REFRESH-INTERVAL:P3D
CALSCALE:GREGORIAN
BEGIN:VEVENT
DTSTART:20250108T190000Z
DTEND:20250108T200000Z
X-MICROSOFT-CDO-ALLDAYEVENT:FALSE
SUMMARY:Membership Services Committee Meeting
DESCRIPTION:Bring your lunch and join the Chamber's "party planners" on the Membership Services Committee! This dynamic group oversees all of our special events\, including the Annual Dinner\, Business After Hours\, Golf Scramble\, Corn Hole Tournament\, and Building Belgrade. Come be part of the fun and share your ideas!
X-ALT-DESC;FMTTYPE=text/html:Bring your lunch and join the Chamber&#39\;s &quot\;party planners&quot\; on the Membership Services Committee! This dynamic group oversees all of our special events\, including the Annual Dinner\, Business After Hours\, Golf Scramble\, Corn Hole Tournament\, and Building Belgrade. Come be part of the fun and share your ideas!
LOCATION:
UID:e.491.15803
SEQUENCE:3
DTSTAMP:20260421T144158Z
URL:https://members.belgradechamber.org/events/details/membership-services-committee-meeting-01-01-2025-15803
END:VEVENT

END:VCALENDAR
