BEGIN:VCALENDAR
VERSION:2.0
PRODID:-//ChamberMaster//Event Calendar 2.0//EN
METHOD:PUBLISH
X-PUBLISHED-TTL:P3D
REFRESH-INTERVAL:P3D
CALSCALE:GREGORIAN
BEGIN:VEVENT
DTSTART;VALUE=DATE:20251220
DTEND;VALUE=DATE:20251221
TRANSP:TRANSPARENT
X-MICROSOFT-CDO-ALLDAYEVENT:TRUE
SUMMARY:Online Tree Contest – Chamber Member Facebook Challenge
DESCRIPTION:Online Tree Contest  \n\nChamber Member Facebook Challenge\n\nWho: All Belgrade Chamber Members\n\nWhat to Do:\n\n\n	Decorate your tree and email a photo to the Chamber by December 10th to enter.\n\n\n \n\nVoting:\n\n\n	Runs December 13 20 on the Belgrade Chamber Facebook page.\n	Votes will be counted by the number of "likes" on each photo in the Christmas Tree Contest album.\n\n\nPrizes:\n\n\n	  The tree with the most "likes" wins a custom plaque and major bragging rights!\n	  Everyone who "likes" (votes) will also be entered into a drawing for another gift basket full of local treats and gift cards.\n\n\n  Let's make Belgrade shine bright this holiday season!\n\nContest and Voting ends December 20th\n\nWinners will be announced on the 22nd.
X-ALT-DESC;FMTTYPE=text/html:<p class="cvGsUA direction-ltr align-start para-style-heading1" style="color: rgb(91\, 158\, 168)\; caret-color: rgb(91\, 158\, 168)\; --8sD0Kg: none\; font-family: YAFcfjveRFU_0\, _fb_\, auto\; --cyV3ZQ: 19.5578px\; --gJPlXQ: 1.45\; letter-spacing: 0.15em\; text-transform: uppercase\; line-height: 28px\;"><span class="a_GcMg font-feature-liga-off font-feature-clig-off font-feature-calt-off text-decoration-none text-strikethrough-none" style="--Ys-XuQ: none\; font-weight: 700\; font-kerning: none\;">&nbsp\;Online Tree Contest &ndash\;</span></p>\n\n<p class="cvGsUA direction-ltr align-start para-style-heading1" style="color: rgb(91\, 158\, 168)\; caret-color: rgb(91\, 158\, 168)\; --8sD0Kg: none\; font-family: YAFcfjveRFU_0\, _fb_\, auto\; --cyV3ZQ: 19.5578px\; --gJPlXQ: 1.45\; letter-spacing: 0.15em\; text-transform: uppercase\; line-height: 28px\;"><span class="a_GcMg font-feature-liga-off font-feature-clig-off font-feature-calt-off text-decoration-none text-strikethrough-none" style="--Ys-XuQ: none\; font-weight: 700\; font-kerning: none\;">Chamber Member Facebook Challenge</span></p>\n\n<p class="cvGsUA direction-ltr align-start para-style-heading1" style="color: rgb(91\, 158\, 168)\; caret-color: rgb(91\, 158\, 168)\; --8sD0Kg: none\; font-family: YAFcfjveRFU_0\, _fb_\, auto\; --cyV3ZQ: 19.5578px\; --gJPlXQ: 1.45\; letter-spacing: 0.15em\; text-transform: uppercase\; line-height: 28px\;"><span class="a_GcMg font-feature-liga-off font-feature-clig-off font-feature-calt-off text-decoration-none text-strikethrough-none" style="--Ys-XuQ: none\; font-weight: 700\; font-kerning: none\;">Who: All Belgrade Chamber Members</span></p>\n\n<p class="cvGsUA direction-ltr align-start para-style-heading1" style="color: rgb(91\, 158\, 168)\; caret-color: rgb(91\, 158\, 168)\; --8sD0Kg: none\; font-family: YAFcfjveRFU_0\, _fb_\, auto\; --cyV3ZQ: 19.5578px\; --gJPlXQ: 1.45\; letter-spacing: 0.15em\; text-transform: uppercase\; line-height: 28px\;"><span class="a_GcMg font-feature-liga-off font-feature-clig-off font-feature-calt-off text-decoration-none text-strikethrough-none" style="--Ys-XuQ: none\; font-weight: 700\; font-kerning: none\;">What to Do:</span></p>\n\n<ul style="padding: 0px 40px\;">\n	<li><span class="a_GcMg font-feature-liga-off font-feature-clig-off font-feature-calt-off text-decoration-none text-strikethrough-none" style="color: rgb(91\, 158\, 168)\; caret-color: rgb(91\, 158\, 168)\; --Ys-XuQ: none\; font-weight: 700\; font-kerning: none\;">Decorate your tree and email a photo to the Chamber by December 10th to enter.</span></li>\n</ul>\n\n<p class="cvGsUA direction-ltr align-start para-style-heading1" style="color: rgb(91\, 158\, 168)\; caret-color: rgb(91\, 158\, 168)\; --8sD0Kg: none\; font-family: YAFcfjveRFU_0\, _fb_\, auto\; --cyV3ZQ: 19.5578px\; --gJPlXQ: 1.45\; letter-spacing: 0.15em\; text-transform: uppercase\; line-height: 28px\;">&nbsp\;</p>\n\n<p class="cvGsUA direction-ltr align-start para-style-heading1" style="color: rgb(91\, 158\, 168)\; caret-color: rgb(91\, 158\, 168)\; --8sD0Kg: none\; font-family: YAFcfjveRFU_0\, _fb_\, auto\; --cyV3ZQ: 19.5578px\; --gJPlXQ: 1.45\; letter-spacing: 0.15em\; text-transform: uppercase\; line-height: 28px\;"><span class="a_GcMg font-feature-liga-off font-feature-clig-off font-feature-calt-off text-decoration-none text-strikethrough-none" style="--Ys-XuQ: none\; font-weight: 700\; font-kerning: none\;">Voting:</span></p>\n\n<ul style="padding: 0px 40px\;">\n	<li><span class="a_GcMg font-feature-liga-off font-feature-clig-off font-feature-calt-off text-decoration-none text-strikethrough-none" style="color: rgb(91\, 158\, 168)\; caret-color: rgb(91\, 158\, 168)\; --Ys-XuQ: none\; font-weight: 700\; font-kerning: none\;">Runs December 13&ndash\;20 on the Belgrade Chamber Facebook page.</span></li>\n	<li><span class="a_GcMg font-feature-liga-off font-feature-clig-off font-feature-calt-off text-decoration-none text-strikethrough-none" style="color: rgb(91\, 158\, 168)\; caret-color: rgb(91\, 158\, 168)\; --Ys-XuQ: none\; font-weight: 700\; font-kerning: none\;">Votes will be counted by the number of &ldquo\;likes&rdquo\; on each photo in the Christmas Tree Contest album.</span></li>\n</ul>\n\n<p class="cvGsUA direction-ltr align-start para-style-heading1" style="color: rgb(91\, 158\, 168)\; caret-color: rgb(91\, 158\, 168)\; --8sD0Kg: none\; font-family: YAFcfjveRFU_0\, _fb_\, auto\; --cyV3ZQ: 19.5578px\; --gJPlXQ: 1.45\; letter-spacing: 0.15em\; text-transform: uppercase\; line-height: 28px\;"><span class="a_GcMg font-feature-liga-off font-feature-clig-off font-feature-calt-off text-decoration-underline text-strikethrough-none" style="--Ys-XuQ: none\; font-weight: 700\; font-kerning: none\;">Prizes:</span></p>\n\n<ul style="padding: 0px 40px\;">\n	<li><span class="a_GcMg font-feature-liga-off font-feature-clig-off font-feature-calt-off text-decoration-none text-strikethrough-none" style="color: rgb(91\, 158\, 168)\; caret-color: rgb(91\, 158\, 168)\; --Ys-XuQ: none\; font-weight: 700\; font-kerning: none\;">&#127941\; The tree with the most &ldquo\;likes&rdquo\; wins a custom plaque and major bragging rights!</span></li>\n	<li><span class="a_GcMg font-feature-liga-off font-feature-clig-off font-feature-calt-off text-decoration-none text-strikethrough-none" style="color: rgb(91\, 158\, 168)\; caret-color: rgb(91\, 158\, 168)\; --Ys-XuQ: none\; font-weight: 700\; font-kerning: none\;">&#127873\; Everyone who &ldquo\;likes&rdquo\; (votes) will also be entered into a drawing for another gift basket full of local treats and gift cards.</span></li>\n</ul>\n\n<p class="cvGsUA direction-ltr align-start para-style-heading1" style="color: rgb(91\, 158\, 168)\; caret-color: rgb(91\, 158\, 168)\; --8sD0Kg: none\; font-family: YAFcfjveRFU_0\, _fb_\, auto\; --cyV3ZQ: 19.5578px\; --gJPlXQ: 1.45\; letter-spacing: 0.15em\; text-transform: uppercase\; line-height: 28px\;"><span class="a_GcMg font-feature-liga-off font-feature-clig-off font-feature-calt-off text-decoration-none text-strikethrough-none" style="--Ys-XuQ: none\; font-weight: 700\; font-kerning: none\;">&#10024\; Let&rsquo\;s make Belgrade shine bright this holiday season!</span></p>\n\n<p class="cvGsUA direction-ltr align-start para-style-heading1" style="color: rgb(91\, 158\, 168)\; caret-color: rgb(91\, 158\, 168)\; --8sD0Kg: none\; font-family: YAFcfjveRFU_0\, _fb_\, auto\; --cyV3ZQ: 19.5578px\; --gJPlXQ: 1.45\; letter-spacing: 0.15em\; text-transform: uppercase\; line-height: 28px\;"><span class="a_GcMg font-feature-liga-off font-feature-clig-off font-feature-calt-off text-decoration-none text-strikethrough-none" style="--Ys-XuQ: none\; font-weight: 700\; font-kerning: none\;">Contest and Voting ends December 20th</span></p>\n\n<p class="cvGsUA direction-ltr align-start para-style-heading1" style="color: rgb(91\, 158\, 168)\; caret-color: rgb(91\, 158\, 168)\; --8sD0Kg: none\; font-family: YAFcfjveRFU_0\, _fb_\, auto\; --cyV3ZQ: 19.5578px\; --gJPlXQ: 1.45\; letter-spacing: 0.15em\; text-transform: uppercase\; line-height: 28px\;"><span class="a_GcMg font-feature-liga-off font-feature-clig-off font-feature-calt-off text-decoration-none text-strikethrough-none" style="--Ys-XuQ: none\; font-weight: 700\; font-kerning: none\;">Winners will be announced on the 22nd.</span></p>\n\n<p class="cvGsUA direction-ltr align-start para-style-heading1" style="color: rgb(184\, 91\, 117)\; caret-color: rgb(184\, 91\, 117)\; --8sD0Kg: none\; font-family: YAFcfjveRFU_0\, _fb_\, auto\; --cyV3ZQ: 19.5578px\; --gJPlXQ: 1.45\; letter-spacing: 0.15em\; text-transform: uppercase\; line-height: 28px\;">&nbsp\;</p>\n\n<p class="cvGsUA direction-ltr align-start para-style-heading1" style="color: rgb(184\, 91\, 117)\; caret-color: rgb(184\, 91\, 117)\; --8sD0Kg: none\; font-family: YAFcfjveRFU_0\, _fb_\, auto\; --cyV3ZQ: 19.5578px\; --gJPlXQ: 1.45\; letter-spacing: 0.15em\; text-transform: uppercase\; line-height: 28px\;">&nbsp\;</p>\n
LOCATION:
UID:e.491.16324
SEQUENCE:3
DTSTAMP:20260421T190817Z
URL:https://members.belgradechamber.org/events/details/online-tree-contest-chamber-member-facebook-challenge-16324
END:VEVENT

END:VCALENDAR
