BEGIN:VCALENDAR
VERSION:2.0
PRODID:-//ChamberMaster//Event Calendar 2.0//EN
METHOD:PUBLISH
X-PUBLISHED-TTL:P3D
REFRESH-INTERVAL:P3D
CALSCALE:GREGORIAN
BEGIN:VEVENT
DTSTART:20251002T173000Z
DTEND:20251002T190000Z
X-MICROSOFT-CDO-ALLDAYEVENT:FALSE
SUMMARY:Prospera & Belgrade Chamber Business Roundtable
DESCRIPTION:Belgrade Business Roundtable - Grant Funding\n\n\nDate: Thursday\, October 2\, 2025 at 11:30am - 1:00pm\n\nEvent Venue: Belgrade Chamber of Commerce\n\nEvent Address: 10 E. Main St.\, Belgrade\, MT\n\nEvent Description:\n\n \n\nJoin us for a roundtable discussion. This months topic is Grant Funding.\n\nLunch provided. Registration required - FREE to attend.\n\nREGISTER HERE\n\nPROSPERA
X-ALT-DESC;FMTTYPE=text/html:<h1 class="mt-3" style="box-sizing: border-box\; margin-bottom: 8px\; line-height: 1.2\; font-size: 2.5rem\; color: rgb(204\, 89\, 39)\; font-family: expressway\, sans-serif\; letter-spacing: 2px\; background-color: rgb(255\, 255\, 255)\; margin-top: 1rem !important\;">Belgrade Business Roundtable - Grant Funding</h1>\n\n<hr style="box-sizing: content-box\; height: 0px\; overflow: visible\; margin-top: 1rem\; margin-bottom: 1rem\; border-right: 0px\; border-bottom: 0px\; border-left: 0px\; border-image: initial\; border-top-style: solid\; border-top-color: rgba(0\, 0\, 0\, 0.1)\; font-family: &quot\;Open Sans&quot\;\, sans-serif\; font-size: 16px\; background-color: rgb(255\, 255\, 255)\;" />\n<h5 style="box-sizing: border-box\; margin-top: 0px\; margin-bottom: 8px\; line-height: 1.2\; font-size: 1.25rem\; color: rgb(82\, 133\, 133)\; font-family: expressway\, sans-serif\; letter-spacing: 2px\; background-color: rgb(255\, 255\, 255)\;"><span class="text-primary" style="box-sizing: border-box\; color: rgb(117\, 17\, 25) !important\;">Date:</span>&nbsp\;<span class="darkGray" style="box-sizing: border-box\;">Thursday\, October 2\, 2025 at 11:30am - 1:00pm</span></h5>\n\n<h5 style="box-sizing: border-box\; margin-top: 0px\; margin-bottom: 8px\; line-height: 1.2\; font-size: 1.25rem\; color: rgb(82\, 133\, 133)\; font-family: expressway\, sans-serif\; letter-spacing: 2px\; background-color: rgb(255\, 255\, 255)\;"><span class="text-primary" style="box-sizing: border-box\; color: rgb(117\, 17\, 25) !important\;">Event Venue:</span>&nbsp\;<span class="darkGray" style="box-sizing: border-box\;">Belgrade Chamber of Commerce</span></h5>\n\n<h5 style="box-sizing: border-box\; margin-top: 0px\; margin-bottom: 8px\; line-height: 1.2\; font-size: 1.25rem\; color: rgb(82\, 133\, 133)\; font-family: expressway\, sans-serif\; letter-spacing: 2px\; background-color: rgb(255\, 255\, 255)\;"><span class="text-primary" style="box-sizing: border-box\; color: rgb(117\, 17\, 25) !important\;">Event Address:</span>&nbsp\;<span class="darkGray" style="box-sizing: border-box\;">10 E. Main St.\, Belgrade\, MT</span></h5>\n\n<h5 class="text-primary" style="box-sizing: border-box\; margin-top: 0px\; margin-bottom: 8px\; line-height: 1.2\; font-size: 1.25rem\; font-family: expressway\, sans-serif\; letter-spacing: 2px\; background-color: rgb(255\, 255\, 255)\; color: rgb(117\, 17\, 25) !important\;">Event Description:</h5>\n\n<p style="box-sizing: border-box\; margin-top: 0px\; margin-bottom: 15px\; font-family: &quot\;Open Sans&quot\;\, sans-serif\; color: rgb(102\, 102\, 102)\; line-height: 28px\; font-size: 16px\; background-color: rgb(255\, 255\, 255)\;">&nbsp\;</p>\n\n<p style="box-sizing: border-box\; margin-top: 0px\; margin-bottom: 15px\; font-family: &quot\;Open Sans&quot\;\, sans-serif\; color: rgb(102\, 102\, 102)\; line-height: 28px\; font-size: 16px\; background-color: rgb(255\, 255\, 255)\;">Join us for a roundtable discussion. This months topic is&nbsp\;<span style="box-sizing: border-box\; font-weight: bolder\;">Grant Funding</span>.</p>\n\n<p style="box-sizing: border-box\; margin-top: 0px\; margin-bottom: 15px\; font-family: &quot\;Open Sans&quot\;\, sans-serif\; color: rgb(102\, 102\, 102)\; line-height: 28px\; font-size: 16px\; background-color: rgb(255\, 255\, 255)\;">Lunch provided. Registration required - FREE to attend.<br />\nREGISTER HERE<br />\n<a href="https://prosperamt.org/calendar/event/111368">PROSPERA</a></p>\n
LOCATION:
UID:e.491.16272
SEQUENCE:3
DTSTAMP:20260422T082830Z
URL:https://members.belgradechamber.org/events/details/prospera-belgrade-chamber-business-roundtable-16272
END:VEVENT

END:VCALENDAR
