BEGIN:VCALENDAR
VERSION:2.0
PRODID:-//ChamberMaster//Event Calendar 2.0//EN
METHOD:PUBLISH
X-PUBLISHED-TTL:P3D
REFRESH-INTERVAL:P3D
CALSCALE:GREGORIAN
BEGIN:VEVENT
DTSTART:20250305T200000Z
DTEND:20250305T210000Z
X-MICROSOFT-CDO-ALLDAYEVENT:FALSE
SUMMARY:Tourism Committee Meeting
DESCRIPTION:For Committee Members Only!
X-ALT-DESC;FMTTYPE=text/html:For Committee Members Only!
LOCATION:
UID:e.491.15842
SEQUENCE:3
DTSTAMP:20260421T113809Z
URL:https://members.belgradechamber.org/events/details/tourism-committee-meeting-03-05-2025-15842
END:VEVENT

END:VCALENDAR
