BEGIN:VCALENDAR
VERSION:2.0
PRODID:-//ChamberMaster//Event Calendar 2.0//EN
METHOD:PUBLISH
X-PUBLISHED-TTL:P3D
REFRESH-INTERVAL:P3D
CALSCALE:GREGORIAN
BEGIN:VEVENT
DTSTART:20251008T190000Z
DTEND:20251008T200000Z
X-MICROSOFT-CDO-ALLDAYEVENT:FALSE
SUMMARY:Tourism Committee Meeting
DESCRIPTION:Gregg Alexander from PRIME Bozeman will be presenting our Visit Belgrade Website updates and details!
X-ALT-DESC;FMTTYPE=text/html:Gregg Alexander from PRIME Bozeman will be presenting our Visit Belgrade Website updates and details!&nbsp\;<br />\n&nbsp\;
LOCATION:Belgrade Chamber of Commerce
UID:e.491.15849
SEQUENCE:3
DTSTAMP:20260421T131629Z
URL:https://members.belgradechamber.org/events/details/tourism-committee-meeting-10-01-2025-15849
END:VEVENT

END:VCALENDAR
