BEGIN:VCALENDAR
VERSION:2.0
PRODID:-//ChamberMaster//Event Calendar 2.0//EN
METHOD:PUBLISH
X-PUBLISHED-TTL:P3D
REFRESH-INTERVAL:P3D
CALSCALE:GREGORIAN
BEGIN:VEVENT
DTSTART:20260204T203000Z
DTEND:20260204T213000Z
X-MICROSOFT-CDO-ALLDAYEVENT:FALSE
SUMMARY:Tourism Committee Meeting
DESCRIPTION:Item 1: FY25 Audit Update\n\nItem 2: Patio Project Update\n\nItem 3: Website Launch and Focus\n\nItem 4: Visitor Guide Development\n\nItem 5: Budget Overview & Guidelines
X-ALT-DESC;FMTTYPE=text/html:Item 1: FY25 Audit Update<br />\nItem 2: Patio Project Update<br />\nItem 3: Website Launch and Focus<br />\nItem 4: Visitor Guide Development<br />\nItem 5: Budget Overview &amp\; Guidelines
LOCATION:Belgrade Chamber Conference Room
UID:e.491.16353
SEQUENCE:3
DTSTAMP:20260422T101633Z
URL:https://members.belgradechamber.org/events/details/tourism-committee-meeting-16353
END:VEVENT

END:VCALENDAR
