BEGIN:VCALENDAR
VERSION:2.0
PRODID:-//ChamberMaster//Event Calendar 2.0//EN
METHOD:PUBLISH
X-PUBLISHED-TTL:P3D
REFRESH-INTERVAL:P3D
CALSCALE:GREGORIAN
BEGIN:VEVENT
DTSTART:20250918T000000Z
DTEND:20250918T003000Z
X-MICROSOFT-CDO-ALLDAYEVENT:FALSE
SUMMARY:Trick or Treat Street Planning Meeting
DESCRIPTION:
X-ALT-DESC;FMTTYPE=text/html:
LOCATION:Belgrade Chamber
UID:e.491.16269
SEQUENCE:3
DTSTAMP:20260421T113844Z
URL:https://members.belgradechamber.org/events/details/trick-or-treat-street-planning-meeting-16269
END:VEVENT

END:VCALENDAR
