BEGIN:VCALENDAR
VERSION:2.0
PRODID:-//ChamberMaster//Event Calendar 2.0//EN
METHOD:PUBLISH
X-PUBLISHED-TTL:P3D
REFRESH-INTERVAL:P3D
CALSCALE:GREGORIAN
BEGIN:VEVENT
DTSTART:20250918T140000Z
DTEND:20250918T160000Z
X-MICROSOFT-CDO-ALLDAYEVENT:FALSE
SUMMARY:United Way Annual Campaign Kickoff
DESCRIPTION:Join Greater Gallatin United Way for a powerful morning of community\, connection\, and inspiration as we launch our 2025 26 Annual Campaign. Enjoy networking\, hear from keynote speaker and bestselling author Kelly Corrigan\, and celebrate local changemakers with the 2025 Community Impact Awards.\n\n\n\nTickets and sponsorships now available. \n\nLearn more: www.greatergallatinunitedway.org/take-action/annual-campaign-kickoff/
X-ALT-DESC;FMTTYPE=text/html:Join Greater Gallatin United Way for a powerful morning of community\, connection\, and inspiration as we launch our 2025&ndash\;26 Annual Campaign. Enjoy networking\, hear from keynote speaker and bestselling author Kelly Corrigan\, and celebrate local changemakers with the 2025 Community Impact Awards.<br />\n<br />\nTickets and sponsorships now available.&nbsp\;<br />\nLearn more: www.greatergallatinunitedway.org/take-action/annual-campaign-kickoff/<br />\n&nbsp\;
LOCATION:The Kimpton Armory Hotel\, 24 W Mendenhall St\, Bozeman\, MT
UID:e.491.16262
SEQUENCE:3
DTSTAMP:20260421T113010Z
URL:https://members.belgradechamber.org/events/details/united-way-annual-campaign-kickoff-16262
END:VEVENT

END:VCALENDAR
